BEGIN:VCALENDAR
VERSION:2.0
PRODID:-//ChamberMaster//Event Calendar 2.0//EN
METHOD:PUBLISH
X-PUBLISHED-TTL:P3D
REFRESH-INTERVAL:P3D
CALSCALE:GREGORIAN
BEGIN:VEVENT
DTSTART:20181021T160000Z
DTEND:20181021T180000Z
X-MICROSOFT-CDO-ALLDAYEVENT:FALSE
SUMMARY:Harvest Festival Winemaker Breakfast
DESCRIPTION:Join our winemaker Sterling for breakfast at Cass! Hear from our winemaker how this year's harvest will affect future vintages and enjoy breakfast in our Barrel Room. Breakfast includes coffee\, orange juice and a glass of CassSparkling Wine. 930-11am\n\nAdditional wine & $10 mimosas available for purchase. \n\n \n\n\nMENU\n\nFresh Baked Brioche Cinnamon Rolls\n\nSweet Caramel Filling\, Rich Butter Icing\n\nSouthern Ambrosia Salad\n\nPineapple\, Mandarin Oranges\, Cherries\, Coconut\, Marshmallows\, Whipped Cream\n\nWilted Greens Scramble\n\nTender Wilted Kale\, Mustard Greens\, Onions\, Garlic\n\nHouse-Made Candied Bacon\n\nSmoked Over Cass Estate Oak\, Brown Sugar\n\nHouse-Made Buttermilk Biscuits\n\nCountry-Style Pepper Sausage Gravy\n\nLocal Organic Whipped Honey Butter
X-ALT-DESC;FMTTYPE=text/html:<p>Join our winemaker Sterling for breakfast at Cass! Hear from our winemaker how this year&rsquo\;s harvest will affect future vintages and enjoy breakfast in our Barrel Room. Breakfast includes coffee\, orange juice and a glass of CassSparkling Wine.&nbsp\;<strong style="color: rgb(73\, 22\, 0)\; font-family: Georgia\, Times\, &quot\;Times New Roman&quot\;\, serif\; font-size: 16px\;">930-11am</strong></p>\n\n<p>Additional wine &amp\; $10 mimosas available for purchase.&nbsp\;<br />\n&nbsp\;</p>\n\n<hr />\n<p><strong>MENU</strong></p>\n\n<p>Fresh Baked Brioche Cinnamon Rolls<br />\n<em>Sweet Caramel Filling\, Rich Butter Icing</em></p>\n\n<p>Southern Ambrosia Salad<br />\n<em>Pineapple\, Mandarin Oranges\, Cherries\, Coconut\, Marshmallows\, Whipped Cream</em></p>\n\n<p>Wilted Greens Scramble<br />\n<em>Tender Wilted Kale\, Mustard Greens\, Onions\, Garlic</em></p>\n\n<p>House-Made Candied Bacon<br />\n<em>Smoked Over Cass Estate Oak\, Brown Sugar</em></p>\n\n<p>House-Made Buttermilk Biscuits</p>\n\n<p>Country-Style Pepper Sausage Gravy</p>\n\n<p>Local Organic Whipped Honey Butter</p>\n
LOCATION:
UID:e.2488.9494
SEQUENCE:3
DTSTAMP:20260421T135346Z
URL:https://business.pasorobleschamber.com/events/details/harvest-festival-winemaker-breakfast-9494
END:VEVENT

END:VCALENDAR
