BEGIN:VCALENDAR
VERSION:2.0
PRODID:-//ChamberMaster//Event Calendar 2.0//EN
METHOD:PUBLISH
X-PUBLISHED-TTL:P3D
REFRESH-INTERVAL:P3D
CALSCALE:GREGORIAN
BEGIN:VEVENT
DTSTART:20181019T170000Z
DTEND:20181022T000000Z
X-MICROSOFT-CDO-ALLDAYEVENT:FALSE
SUMMARY:Harvest Wine Weekend at Summerwood Winery
DESCRIPTION:October in Paso Robles Wine Country is exciting! The smells\, sights and sounds are unlike any other time of year. Head out to the Summerwood tasting room where our large windows allow you to look right into the cellar and see the winemaking process up close.\n\nTACOS & SALSAS   On Saturday we will offer complimentary tacos and fresh salsas crafted by our inn chef. Serving from 12:00pm until we run out!\n\nTABLETOP & LAWN GAMES   available to enjoy throughout the weekend.
X-ALT-DESC;FMTTYPE=text/html:October in Paso Robles Wine Country is exciting! The smells\, sights and sounds are unlike any other time of year. Head out to the Summerwood tasting room where our large windows allow you to look right into the cellar and see the winemaking process up close.<br />\n<strong>TACOS &amp\; SALSAS</strong> &ndash\; On Saturday we will offer complimentary tacos and fresh salsas crafted by our inn chef. Serving from 12:00pm until we run out!<br />\n<strong>TABLETOP &amp\; LAWN GAMES</strong> &ndash\; available to enjoy throughout the weekend.
LOCATION:Summerwood Winery 2175 Arbor Road Paso Robles
UID:e.2488.9484
SEQUENCE:3
DTSTAMP:20260421T085253Z
URL:https://business.pasorobleschamber.com/events/details/harvest-wine-weekend-at-summerwood-winery-9484
END:VEVENT

END:VCALENDAR
