BEGIN:VCALENDAR
VERSION:2.0
PRODID:-//ChamberMaster//Event Calendar 2.0//EN
METHOD:PUBLISH
X-PUBLISHED-TTL:P3D
REFRESH-INTERVAL:P3D
CALSCALE:GREGORIAN
BEGIN:VEVENT
DTSTART:20161016T010000Z
DTEND:20161016T050000Z
X-MICROSOFT-CDO-ALLDAYEVENT:FALSE
SUMMARY:Harvest Winemaker Dinner
DESCRIPTION:Winemaker Jeremy Weintraub and Adelaida Vineyards and Winery invite you to join us as we celebrate the plentiful harvest of 2016.  Come savor the bounty of locally grown ingredients selected by Chef Alex Martin for his scrumptious Harvest Paella.  Experience the excitement of Flamenco   the joy of tropical Brazilian guitar performed by acclaimed musician Jon Stephen.  The festivities will begin at 6pm with passed appetizers and wine.  A generous Family style feast\, paired perfectly with Adelaida wines\, follows. Bring your Flamenco fans and samba shoes   it's going to be a great night! \n\n \nBounty of the Harvest Menu prepared by Chef Alex Martin of Crush Catering. \n\n$80 Per Person- General Admission\n\n$64 per person- Adelaida Club 2320 Members\n\nThis is a 21 and over event. \n\nPurchase Tickets at www.adelaida.eventbrite.com
X-ALT-DESC;FMTTYPE=text/html:<span style="color:rgba(0\, 0\, 0\, 0.870588)\; font-family:roboto\,sans-serif\; font-size:14px">Winemaker Jeremy Weintraub and Adelaida Vineyards and Winery invite you to join us as we celebrate the plentiful harvest of 2016.&nbsp\; Come savor the bounty of locally grown ingredients selected by Chef Alex Martin for his scrumptious Harvest Paella.&nbsp\;&nbsp\;</span><span style="color:rgba(0\, 0\, 0\, 0.870588)\; font-family:roboto\,sans-serif\; font-size:14px">Experience the excitement of Flamenco &ndash\; the joy of tropical Brazilian guitar performed by acclaimed musician Jon Stephen.&nbsp\;&nbsp\;</span><span style="color:rgba(0\, 0\, 0\, 0.870588)\; font-family:roboto\,sans-serif\; font-size:14px">The festivities will begin at 6pm with passed appetizers and wine.&nbsp\; A generous Family style feast\, paired perfectly with Adelaida wines\, follows. Bring your Flamenco fans and samba shoes &ndash\; it&rsquo\;s going to be a great night!&nbsp\;</span><br />\n&nbsp\;\n<p>Bounty of the Harvest Menu prepared by&nbsp\;<a href="http://www.crushcatering.com/" style="box-sizing: inherit\; background-color: transparent\; color: rgb(3\, 155\, 229)\; text-decoration: none\; -webkit-tap-highlight-color: transparent\;">Chef Alex Martin of Crush Catering</a>.&nbsp\;</p>\n\n<p>$80 Per Person- General Admission</p>\n\n<p>$64 per person- Adelaida Club 2320 Members</p>\n\n<p>This is a 21 and over event.&nbsp\;</p>\n\n<p>Purchase Tickets at&nbsp\;<a href="http://www.adelaida.eventbrite.com/" style="box-sizing: inherit\; background-color: transparent\; color: rgb(3\, 155\, 229)\; text-decoration: none\; -webkit-tap-highlight-color: transparent\;">www.adelaida.eventbrite.com</a>&nbsp\;</p>\n\n<div>&nbsp\;</div>\n
LOCATION:Adelaida Vineyards and Winery
UID:e.2488.5616
SEQUENCE:3
DTSTAMP:20260420T005157Z
URL:https://business.pasorobleschamber.com/events/details/harvest-winemaker-dinner-5616
END:VEVENT

END:VCALENDAR
