BEGIN:VCALENDAR
VERSION:2.0
PRODID:-//ChamberMaster//Event Calendar 2.0//EN
METHOD:PUBLISH
X-PUBLISHED-TTL:P3D
REFRESH-INTERVAL:P3D
CALSCALE:GREGORIAN
BEGIN:VEVENT
DTSTART:20161029T010000Z
DTEND:20161029T040000Z
X-MICROSOFT-CDO-ALLDAYEVENT:FALSE
SUMMARY:Haunted Caves at Eberle Winery
DESCRIPTION:Come if you dare to the Eberle Wine Caves to experience one of the spookiest tickets in town this Halloween weekend!  Lit by a team of professionals\, the 17\,000 square feet of underground caves at Eberle are turned into a frightening delight recommended for trick-or-treaters 8 years old and older. Parents can sip\, sample and scream the night away with wine tasting and spine tingling treats.  Just ask for the Ca-BOO-Nay!  Money raised goes directly to the Kinship Center of San Luis Obispo County benefiting foster children and adoption services.
X-ALT-DESC;FMTTYPE=text/html:<span style="font-size:12pt"><span style="font-family:calibri\,sans-serif">Come if you dare to the Eberle Wine Caves to experience one of the spookiest tickets in town this Halloween weekend!&nbsp\; Lit by a team of professionals\, the 17\,000 square feet of underground caves at Eberle are turned into a frightening delight recommended for trick-or-treaters 8 years old and older. Parents can sip\, sample and scream the night away with wine tasting and spine tingling treats.&nbsp\; Just ask for the Ca-BOO-Nay!&nbsp\; Money raised goes directly to the Kinship Center of San Luis Obispo County benefiting foster children and adoption services.</span></span>
LOCATION:Eberle Winery 3810 Highway 46 East Paso Robles\, CA 93446
UID:e.2488.5614
SEQUENCE:3
DTSTAMP:20260420T061419Z
URL:https://business.pasorobleschamber.com/events/details/haunted-caves-at-eberle-winery-5614
END:VEVENT

END:VCALENDAR
