BEGIN:VCALENDAR
VERSION:2.0
PRODID:-//ChamberMaster//Event Calendar 2.0//EN
METHOD:PUBLISH
X-PUBLISHED-TTL:P3D
REFRESH-INTERVAL:P3D
CALSCALE:GREGORIAN
BEGIN:VEVENT
DTSTART:20181021T010000Z
DTEND:20181021T040000Z
X-MICROSOFT-CDO-ALLDAYEVENT:FALSE
SUMMARY:Hearst Ranch Winery's Harvest Dinner- San Simeon
DESCRIPTION:Join the owners of Hearst Ranch Winery for their annual Harvest Dinner in San Simeon! The dinner will be hosted behind the private gates of Hearst's historic Seaside Warehouse. Award-winning Hearst Ranch Wines will be exquisitely paired with a five-course meal by Chef Matt Beckett of Linn's\, and live music by Nicole Stromsoe.
X-ALT-DESC;FMTTYPE=text/html:<span style="font-family:calibri\,sans-serif"><span style="font-size:11.0pt">Join the owners of Hearst Ranch Winery for their annual Harvest Dinner in San Simeon! The dinner will be hosted behind the private gates of Hearst&#39\;s historic Seaside Warehouse. Award-winning Hearst Ranch Wines will be exquisitely paired with a five-course meal by Chef Matt Beckett of Linn&#39\;s\, and live music by Nicole Stromsoe.</span></span>
LOCATION:Historic Hearst Seaside Warehouse 442 SLO San Simeon Road San Simeon\, CA 93452
UID:e.2488.9565
SEQUENCE:3
DTSTAMP:20260421T085034Z
URL:https://business.pasorobleschamber.com/events/details/hearst-ranch-winery-s-harvest-dinner-san-simeon-9565
END:VEVENT

END:VCALENDAR
