BEGIN:VCALENDAR
VERSION:2.0
PRODID:-//ChamberMaster//Event Calendar 2.0//EN
METHOD:PUBLISH
X-PUBLISHED-TTL:P3D
REFRESH-INTERVAL:P3D
CALSCALE:GREGORIAN
BEGIN:VEVENT
DTSTART:20181020T190000Z
DTEND:20181020T220000Z
X-MICROSOFT-CDO-ALLDAYEVENT:FALSE
SUMMARY:Hearst Ranch Winery's Paso Robles Harvest Celebration
DESCRIPTION:Head to Hearst Ranch Winery's new Paso Robles Tasting Room at the Winery for a Harvest celebration! Live music by Adam Levine\, tapas by Hearst Ranch Winery's exclusive Scotty Saunders & Friends\, and Hearst Ranch Winery's award-winning wines. Take in the Paso Robles countryside from our patio with views of estate vineyards and rolling hillsides.
X-ALT-DESC;FMTTYPE=text/html:<span style="font-family:calibri\,sans-serif"><span style="font-size:11.0pt">Head to Hearst Ranch Winery&#39\;s new <strong>Paso Robles Tasting Room</strong> at the Winery for a Harvest celebration! Live music by Adam Levine\, tapas by Hearst Ranch Winery&#39\;s exclusive Scotty Saunders &amp\; Friends\, and Hearst Ranch Winery&#39\;s award-winning wines. Take in the Paso Robles countryside from our patio with views of estate vineyards and rolling hillsides.</span></span>
LOCATION:Hearst Ranch Winery's Paso Robles Tasting Room 7300 North River Road Paso Robles\, CA 93446
UID:e.2488.9564
SEQUENCE:3
DTSTAMP:20260421T085225Z
URL:https://business.pasorobleschamber.com/events/details/hearst-ranch-winery-s-paso-robles-harvest-celebration-9564
END:VEVENT

END:VCALENDAR
