BEGIN:VCALENDAR
VERSION:2.0
PRODID:-//ChamberMaster//Event Calendar 2.0//EN
METHOD:PUBLISH
X-PUBLISHED-TTL:P3D
REFRESH-INTERVAL:P3D
CALSCALE:GREGORIAN
BEGIN:VEVENT
DTSTART:20170416T170000Z
DTEND:20170416T183000Z
X-MICROSOFT-CDO-ALLDAYEVENT:FALSE
SUMMARY:Highlands Church Easter Service
DESCRIPTION:Come join Highlands Church at the Mid State Fairgrounds for Easter service! Service will begin at 10:00am at the Fort Frontier Stage. We are going to have a fun-filled Kid's Party during the service.
X-ALT-DESC;FMTTYPE=text/html:Come join Highlands Church at the Mid State Fairgrounds for Easter service! Service will begin at 10:00am at the Fort Frontier Stage. We are going to have a fun-filled Kid&#39\;s Party during the service.
LOCATION:California MidState Fairgrounds
UID:e.2488.6402
SEQUENCE:3
DTSTAMP:20260422T095848Z
URL:https://business.pasorobleschamber.com/events/details/highlands-church-easter-service-6402
END:VEVENT

END:VCALENDAR
