BEGIN:VCALENDAR
VERSION:2.0
PRODID:-//ChamberMaster//Event Calendar 2.0//EN
METHOD:PUBLISH
X-PUBLISHED-TTL:P3D
REFRESH-INTERVAL:P3D
CALSCALE:GREGORIAN
BEGIN:VEVENT
DTSTART:20160514T160000Z
DTEND:20160514T220000Z
X-MICROSOFT-CDO-ALLDAYEVENT:FALSE
SUMMARY:Historic Adelaida School Fundraiser
DESCRIPTION:Adelaida Round-Up\n\nHave a horse? Trail ride with us on beautiful private back country ranches as we amble over oak covered hills and pristine woodland. See what you can't see from the road. Get saddle sore? Grab your cushion and sign up for the wagon ride. Tour the historic school house and see the restoration progress!\n\n\n\nGate open at 8am.\n\n9am: horse ride\n\n10am: wagon/hay ride\n\n1pm: lunch outside bbq afternoon story and live and silent auctions.
X-ALT-DESC;FMTTYPE=text/html:Adelaida Round-Up<br />\nHave a horse? Trail ride with us on beautiful private back country ranches as we amble over oak covered hills and pristine woodland. See what you can&#39\;t see from the road. Get saddle sore? Grab your cushion and sign up for the wagon ride. Tour the historic school house and see the restoration progress!<br />\n<br />\nGate open at 8am.<br />\n9am:&nbsp\;horse ride<br />\n10am: wagon/hay ride<br />\n1pm: lunch outside bbq afternoon story and live and silent auctions.
LOCATION:13 miles W. of Paso Robles on Adelaide Road.
UID:e.2488.4680
SEQUENCE:3
DTSTAMP:20260424T155229Z
URL:https://business.pasorobleschamber.com/events/details/historic-adelaida-school-fundraiser-05-14-2016-4680
END:VEVENT

END:VCALENDAR
