BEGIN:VCALENDAR
VERSION:2.0
PRODID:-//ChamberMaster//Event Calendar 2.0//EN
METHOD:PUBLISH
X-PUBLISHED-TTL:P3D
REFRESH-INTERVAL:P3D
CALSCALE:GREGORIAN
BEGIN:VEVENT
DTSTART:20181020T170000Z
DTEND:20181020T183000Z
X-MICROSOFT-CDO-ALLDAYEVENT:FALSE
SUMMARY:Historic Walk of Old Town Paso
DESCRIPTION:Guided stroll through downtown Paso Robles past 1880s storefronts\, hotels\, and saloons to discover the city's beginnings and stories of its pioneers. Sponsored by SLO Cty. History Center and Sierra Club
X-ALT-DESC;FMTTYPE=text/html:Guided stroll through downtown Paso Robles past 1880s storefronts\, hotels\, and saloons to discover the city&#39\;s beginnings and stories of its pioneers. Sponsored by SLO Cty. History Center and Sierra Club
LOCATION:Corner of Spring and 10th Streets
UID:e.2488.9520
SEQUENCE:3
DTSTAMP:20260423T083225Z
URL:https://business.pasorobleschamber.com/events/details/historic-walk-of-old-town-paso-9520
END:VEVENT

END:VCALENDAR
