BEGIN:VCALENDAR
VERSION:2.0
PRODID:-//ChamberMaster//Event Calendar 2.0//EN
METHOD:PUBLISH
X-PUBLISHED-TTL:P3D
REFRESH-INTERVAL:P3D
CALSCALE:GREGORIAN
BEGIN:VEVENT
DTSTART:20161203T210000Z
DTEND:20161203T230000Z
X-MICROSOFT-CDO-ALLDAYEVENT:FALSE
SUMMARY:Holiday Grapevine Wreath-Making
DESCRIPTION:Join in the fun of making your very own grapevine holiday wreath. Tisha Smith\, with Boyd & Bradley Art Studio\, will assist you in creating your unique holiday wreath. $45 per person includes all materials and instruction along with a glass of wine and small bites. No need to be an expert in crafts\, holiday spirit is all that's needed! Bring some friends and join in this festive afternoon\, from 1:00   3:00 PM. Call our tasting room to reserve your spot\, 805.227.1365 x11.
X-ALT-DESC;FMTTYPE=text/html:Join in the fun of making your very own grapevine holiday wreath. Tisha Smith\, with Boyd &amp\; Bradley Art Studio\, will assist you in creating your unique holiday wreath. $45 per person includes all materials and instruction along with a glass of wine and small bites. No need to be an expert in crafts\, holiday spirit is all that&rsquo\;s needed! Bring some friends and join in this festive afternoon\, from 1:00 &ndash\; 3:00 PM. Call our tasting room to reserve your spot\, 805.227.1365 x11.<br />\n&nbsp\;
LOCATION:Summerwood Winery Tasting Room
UID:e.2488.5648
SEQUENCE:3
DTSTAMP:20260421T083326Z
URL:https://business.pasorobleschamber.com/events/details/holiday-grapevine-wreath-making-5648
END:VEVENT

END:VCALENDAR
