BEGIN:VCALENDAR
VERSION:2.0
PRODID:-//ChamberMaster//Event Calendar 2.0//EN
METHOD:PUBLISH
X-PUBLISHED-TTL:P3D
REFRESH-INTERVAL:P3D
CALSCALE:GREGORIAN
BEGIN:VEVENT
DTSTART:20181222T013000Z
DTEND:20181222T033000Z
X-MICROSOFT-CDO-ALLDAYEVENT:FALSE
SUMMARY:Holiday Relief Concert
DESCRIPTION:In need of some holiday relief? Or just arriving into town for the holidays? Come out to Cass Winery for live music from California-grown artist Ricky Montijo & enjoy extended caf  hours. Sit back & relax or bring a partner and enjoy the dance floor! Ricky Montijo effortlessly blends influences of Soul\, Rock\, Latin\, Blues\, Reggae\, and Pop Music.\n\nYour ticket allows you access to the winery after hours to enjoy the music. Food & wine will be available for purchase.\n\n\n\n*Please note tickets are required for all attendees\, including wine club members.
X-ALT-DESC;FMTTYPE=text/html:<p>In need of some holiday relief? Or just arriving into town for the holidays? Come out to Cass Winery for live music from California-grown artist&nbsp\;<a href="http://www.rickymontijo.com/" style="background: transparent\; text-decoration-line: none\; color: rgb(91\, 130\, 27)\;" target="_blank">Ricky Montijo</a>&nbsp\;&amp\; enjoy extended caf&eacute\; hours. Sit back &amp\; relax or bring a partner and enjoy the dance floor! Ricky Montijo effortlessly blends influences of Soul\, Rock\, Latin\, Blues\, Reggae\, and Pop Music.</p>\n\n<p>Your ticket allows you access to the winery after hours to enjoy the music. Food &amp\; wine will be available for purchase.<br />\n<br />\n<em><strong>*Please note tickets are required for all attendees\, including wine club members.</strong></em></p>\n
LOCATION:
UID:e.2488.9624
SEQUENCE:3
DTSTAMP:20260421T061643Z
URL:https://business.pasorobleschamber.com/events/details/holiday-relief-concert-9624
END:VEVENT

END:VCALENDAR
