BEGIN:VCALENDAR
VERSION:2.0
PRODID:-//ChamberMaster//Event Calendar 2.0//EN
METHOD:PUBLISH
X-PUBLISHED-TTL:P3D
REFRESH-INTERVAL:P3D
CALSCALE:GREGORIAN
BEGIN:VEVENT
DTSTART:20180214T013000Z
DTEND:20180214T033000Z
X-MICROSOFT-CDO-ALLDAYEVENT:FALSE
SUMMARY:Hospitality Meet & Greet
DESCRIPTION:Join us on Tuesday\, February 13th from 5:30-7:30 pm at Courtyard by Marriott in Paso Robles for a Hospitality Meet & Greet! Bring yourself and your staff for a chance to mix and mingle with members of the hospitality community! Wine\, beer & appetizers will be provided. Hotels\, wineries\, restaurants - everyone is welcome! To RSVP\, email PasoRoblesDOS@ih-corp.com by Tuesday February 6th.
X-ALT-DESC;FMTTYPE=text/html:Join us on Tuesday\, February 13th from 5:30-7:30 pm at Courtyard by Marriott in Paso Robles for a Hospitality Meet &amp\; Greet! Bring yourself and your staff for a chance to mix and mingle with members of the hospitality community! Wine\, beer &amp\; appetizers will be provided. Hotels\, wineries\, restaurants - everyone is welcome! To RSVP\, email PasoRoblesDOS@ih-corp.com by Tuesday February 6th.
LOCATION:Courtyard by Marriott 120 S Vine Street Paso Robles\, Ca
UID:e.2488.7959
SEQUENCE:3
DTSTAMP:20260424T063142Z
URL:https://business.pasorobleschamber.com/events/details/hospitality-meet-greet-7959
END:VEVENT

END:VCALENDAR
