BEGIN:VCALENDAR
VERSION:2.0
PRODID:-//ChamberMaster//Event Calendar 2.0//EN
METHOD:PUBLISH
X-PUBLISHED-TTL:P3D
REFRESH-INTERVAL:P3D
CALSCALE:GREGORIAN
BEGIN:VEVENT
DTSTART:20160622T003000Z
DTEND:20160622T023000Z
X-MICROSOFT-CDO-ALLDAYEVENT:FALSE
SUMMARY:Hot Tuesday - White Rhone Wines of Summer!
DESCRIPTION:Celebrate summer with a white Rhone wine tasting with 25 Paso Robles Rhone Ranger wineries! Small bites and artisan cheese pairings plus live music complete this HOT TUESDAY VARIETAL NIGHT!\n\nTuesday\, June 21st\n\n5:30 7:30 p.m.\n\nCost: $25.00 per person\n\nTickets Available via Brown Paper Tickets:\n\nhttp://summerwhiterhones.bpt.me\n\nHost Winery: Eberle Winery\n\n3810 Highway 46 East\, Paso Robles\n\n805.238.9607
X-ALT-DESC;FMTTYPE=text/html:<p style="text-align:center">Celebrate summer with a white Rhone wine tasting with 25 Paso Robles Rhone Ranger wineries! Small bites and artisan cheese pairings plus live music complete this HOT TUESDAY VARIETAL NIGHT!</p>\n\n<p style="text-align:center">Tuesday\, June 21st</p>\n\n<p style="text-align:center">5:30&mdash\;7:30 p.m.</p>\n\n<p style="text-align:center">Cost: $25.00 per person</p>\n\n<p style="text-align:center">Tickets Available via Brown Paper Tickets:</p>\n\n<p style="text-align:center">http://summerwhiterhones.bpt.me</p>\n\n<p style="text-align:center">Host Winery: Eberle Winery</p>\n\n<p style="text-align:center">3810 Highway 46 East\, Paso Robles</p>\n\n<p style="text-align:center">805.238.9607</p>\n
LOCATION:Eberle Winery 3810 Highway 46 East\, Paso Robles
UID:e.2488.4779
SEQUENCE:3
DTSTAMP:20260424T150417Z
URL:https://business.pasorobleschamber.com/events/details/hot-tuesday-white-rhone-wines-of-summer-06-21-2016-4779
END:VEVENT

END:VCALENDAR
