BEGIN:VCALENDAR
VERSION:2.0
PRODID:-//ChamberMaster//Event Calendar 2.0//EN
METHOD:PUBLISH
X-PUBLISHED-TTL:P3D
REFRESH-INTERVAL:P3D
CALSCALE:GREGORIAN
BEGIN:VEVENT
DTSTART:20160602T170000Z
DTEND:20160602T190000Z
X-MICROSOFT-CDO-ALLDAYEVENT:FALSE
SUMMARY:IGGPRA June Seminar: You Are Not Alone\, Protect/Manage Your Vineyard Investment
DESCRIPTION:Topics and Speakers: We're From the Government and We Are Here to Help Margy Lindquist\, Natural Resource Conservation Service (NRCS) Devin Best\, Resource Conservation District Director Jennifer Bloom\, Farm Services Agency Representative Instrumentation to Aid in Irrigation Management Dr. Lowell Zelinski\, IGGPRA President and Owner of Precision AG Consulting A New Method Measuring Evapo-transpiration in Vineyards John Azevedo\, Tule Technologies
X-ALT-DESC;FMTTYPE=text/html:Topics and Speakers: We&#39\;re From the Government and We Are Here to Help Margy Lindquist\, Natural Resource Conservation Service (NRCS) Devin Best\, Resource Conservation District Director Jennifer Bloom\, Farm Services Agency Representative Instrumentation to Aid in Irrigation Management Dr. Lowell Zelinski\, IGGPRA President and Owner of Precision AG Consulting A New Method Measuring Evapo-transpiration in Vineyards John Azevedo\, Tule Technologies
LOCATION:Paso Robles High School - Performing Arts Center 801 Niblick Rd. Paso Robles\, CA 93446
UID:e.2488.4749
SEQUENCE:3
DTSTAMP:20260424T150115Z
URL:https://business.pasorobleschamber.com/events/details/iggpra-june-seminar-you-are-not-alone-protect-manage-your-vineyard-investment-06-02-2016-4749
END:VEVENT

END:VCALENDAR
