BEGIN:VCALENDAR
VERSION:2.0
PRODID:-//ChamberMaster//Event Calendar 2.0//EN
METHOD:PUBLISH
X-PUBLISHED-TTL:P3D
REFRESH-INTERVAL:P3D
CALSCALE:GREGORIAN
BEGIN:VEVENT
DTSTART:20260502T190000Z
DTEND:20260628T230000Z
X-MICROSOFT-CDO-ALLDAYEVENT:FALSE
SUMMARY:Ink Works '26
DESCRIPTION:Check out what the Central Coast Printmakers have been up to! In this diverse collection of original prints by local artists you will be wowed by detail\, imagination\, and skill found in each piece. This exhibit will be up in the Studios central Atrium Gallery starting May 2nd through June 28th. Opening reception will be held on Saturday\, May 2nd.
X-ALT-DESC;FMTTYPE=text/html:Check out what the Central Coast Printmakers have been up to! In this diverse collection of original prints by local artists you will be wowed by detail\, imagination\, and skill found in each piece. This exhibit will be up in the Studios central Atrium Gallery starting May 2nd through June 28th. Opening reception will be held on Saturday\, May 2nd.
LOCATION:1130 Pine St Paso Robles
UID:e.2488.20100
SEQUENCE:3
DTSTAMP:20260420T224705Z
URL:https://business.pasorobleschamber.com/events/details/ink-works-26-20100
END:VEVENT

END:VCALENDAR
