BEGIN:VCALENDAR
VERSION:2.0
PRODID:-//ChamberMaster//Event Calendar 2.0//EN
METHOD:PUBLISH
X-PUBLISHED-TTL:P3D
REFRESH-INTERVAL:P3D
CALSCALE:GREGORIAN
BEGIN:VEVENT
DTSTART:20180915T160000Z
DTEND:20180916T230000Z
X-MICROSOFT-CDO-ALLDAYEVENT:FALSE
SUMMARY:Inspired Home and Garden Expo of San Luis Obispo
DESCRIPTION:Meet local experts to complete your home and garden projects! View pop-up rooms for ideas and inspiration\, discover new products and services\, attend home improvement seminars\, educate yourself on all your options and meet local experts in person. Home and garden expo exhibitors include general contractors\, flooring\, landscapers\, kitchen and bath cabinets closet organizers\, landscape designers\, painters\, countertops\, tile\, granite\, appliances\, solar energy\, fireplaces\, and much more! Free admission and parking. Bring your Pinterest boards and find the expert to make it yours!
X-ALT-DESC;FMTTYPE=text/html:<div>Meet local experts to complete your home and garden projects! View pop-up rooms for ideas and inspiration\, discover new products and services\, attend home improvement seminars\, educate yourself on all your options and meet local experts in person. Home and garden expo exhibitors include general contractors\, flooring\, landscapers\, kitchen and bath cabinets closet organizers\, landscape designers\, painters\, countertops\, tile\, granite\, appliances\, solar energy\, fireplaces\, and much more! Free admission and parking. Bring your Pinterest boards and find the expert to make it yours!</div>\n
LOCATION:Alex Madonna Expo Center 100 Madonna Rd San Luis Obispo\, CA 93405
UID:e.2488.9501
SEQUENCE:3
DTSTAMP:20260421T161140Z
URL:https://business.pasorobleschamber.com/events/details/inspired-home-and-garden-expo-of-san-luis-obispo-9501
END:VEVENT

END:VCALENDAR
