BEGIN:VCALENDAR
VERSION:2.0
PRODID:-//ChamberMaster//Event Calendar 2.0//EN
METHOD:PUBLISH
X-PUBLISHED-TTL:P3D
REFRESH-INTERVAL:P3D
CALSCALE:GREGORIAN
BEGIN:VEVENT
DTSTART:20181006T170000Z
DTEND:20181007T230000Z
X-MICROSOFT-CDO-ALLDAYEVENT:FALSE
SUMMARY:Inspired Home\, Garden and Gourmet Expo of Paso Robles
DESCRIPTION:The Inspired Home\, Garden and Gourmet Expo is where you can find professionals to make your Pinterest boards a reality! At the event\, you can see new products\, pop-up rooms\, and attend educational home improvement and cuisine seminars. Stop by and speak to local professionals.\n\n\n\nAlong with these home and gardening experts\, the Home Expo will also offer the Taste Buds Chef Competition in which local chefs will be using the same ingredients to create different meals and will be judged by a panel of professional judges\, as well as attendees of the expo. The Wine and Gourmet Food Garden will offer samples from local wineries and restaurants. Attendees can wine taste for $5\; all proceeds will benefit local non-profit\, The Wellness Kitchen & Resource Center. \n\n \n\nDoors are open from 10am - 4pm both Saturday (Oct. 6) and Sunday (Oct. 7). Free admission and parking.
X-ALT-DESC;FMTTYPE=text/html:<div>The Inspired Home\, Garden and Gourmet Expo is where you can find professionals to make your Pinterest boards a reality! At the event\, you can see new products\, pop-up rooms\, and attend educational home improvement and cuisine seminars. Stop by and speak to local professionals.<br />\n<br />\nAlong with these home and gardening experts\, the Home Expo will also offer the Taste Buds Chef Competition in which local chefs will be using&nbsp\;<span style="font-size:small">the same ingredients to create different meals and</span>&nbsp\;will be judged by a panel of professional judges\, as well as attendees of the expo.&nbsp\;The Wine and Gourmet Food Garden will offer samples from local wineries and restaurants. Attendees can wine taste for $5\; all proceeds will benefit local non-profit\, The Wellness Kitchen &amp\; Resource Center.&nbsp\;</div>\n\n<div>&nbsp\;</div>\n\n<div>Doors are open from 10am - 4pm both Saturday (Oct. 6) and Sunday (Oct. 7). Free admission and parking.</div>\n
LOCATION:Paso Robles Event Center 2198 Riverside Ave Paso Robles\, CA 93446
UID:e.2488.9500
SEQUENCE:3
DTSTAMP:20260421T085858Z
URL:https://business.pasorobleschamber.com/events/details/inspired-home-garden-and-gourmet-expo-of-paso-robles-9500
END:VEVENT

END:VCALENDAR
