BEGIN:VCALENDAR
VERSION:2.0
PRODID:-//ChamberMaster//Event Calendar 2.0//EN
METHOD:PUBLISH
X-PUBLISHED-TTL:P3D
REFRESH-INTERVAL:P3D
CALSCALE:GREGORIAN
BEGIN:VEVENT
DTSTART:20171201T200000Z
DTEND:20171201T210000Z
X-MICROSOFT-CDO-ALLDAYEVENT:FALSE
SUMMARY:Instagram: Is It Right for Your Business?
DESCRIPTION:Bring lunch to a SCORE BYOBB (Bring Your Own Brown Bag) seminar on the basics of Instagram. Join us to learn how to harness the power of Instagram for your business with 10 key strategies. If used correctly\, Instagram offers small SCORE's Workshop on Instagram will show how the application is an amazing opportunity to build their brand\, connect with potential customers\, and even drive sales through video and photo content. We will be setting up at 11:30 and the presentation starts at 12:00. Come\, network and/or chat with our presenter\, Jill McMahon prior to the start
X-ALT-DESC;FMTTYPE=text/html:Bring lunch to a SCORE BYOBB (Bring Your Own Brown Bag) seminar on the basics of Instagram. Join us to learn how to harness the power of Instagram for your business with 10 key strategies. If used correctly\, Instagram offers small SCORE&#39\;s Workshop on Instagram will show how the application is an amazing opportunity to build their brand\, connect with potential customers\, and even drive sales through video and photo content. We will be setting up at 11:30 and the presentation starts at 12:00. Come\, network and/or chat with our presenter\, Jill McMahon prior to the start
LOCATION:Ludwick Community Center 864 Santa Rosa Street San Luis Obispo
UID:e.2488.6856
SEQUENCE:3
DTSTAMP:20260422T083430Z
URL:https://business.pasorobleschamber.com/events/details/instagram-is-it-right-for-your-business-6856
END:VEVENT

END:VCALENDAR
