BEGIN:VCALENDAR
VERSION:2.0
PRODID:-//ChamberMaster//Event Calendar 2.0//EN
METHOD:PUBLISH
X-PUBLISHED-TTL:P3D
REFRESH-INTERVAL:P3D
CALSCALE:GREGORIAN
BEGIN:VEVENT
DTSTART;VALUE=DATE:20180104
DTEND;VALUE=DATE:20180201
TRANSP:TRANSPARENT
X-MICROSOFT-CDO-ALLDAYEVENT:TRUE
SUMMARY:January: Local's Month at Calcareous
DESCRIPTION:San Luis Obispo County resident's join us up at Calcareous Vineyard for a complimentary wine tasting for the month of January. Just bring in your local ID to receive your complimentary tasting.\n\n"Come for the wine\, stay for the view."
X-ALT-DESC;FMTTYPE=text/html:<h2 style="text-align: center\;">San Luis Obispo County resident&#39\;s join us up at Calcareous Vineyard for a complimentary wine tasting for the month of January. Just bring in your local ID to receive your complimentary tasting.</h2>\n\n<h3 style="text-align: center\;">&quot\;Come for the wine\, stay for the view.&quot\;</h3>\n
LOCATION:Calcareous Vineyard Tasting Room 3430 Peachy Canyon Road Paso Roble\, CA 93446
UID:e.2488.7106
SEQUENCE:3
DTSTAMP:20260422T065749Z
URL:https://business.pasorobleschamber.com/events/details/january-local-s-month-at-calcareous-7106
END:VEVENT

END:VCALENDAR
