BEGIN:VCALENDAR
VERSION:2.0
PRODID:-//ChamberMaster//Event Calendar 2.0//EN
METHOD:PUBLISH
X-PUBLISHED-TTL:P3D
REFRESH-INTERVAL:P3D
CALSCALE:GREGORIAN
BEGIN:VEVENT
DTSTART;VALUE=DATE:20170310
DTEND;VALUE=DATE:20170311
TRANSP:TRANSPARENT
X-MICROSOFT-CDO-ALLDAYEVENT:TRUE
SUMMARY:Jill Knight at TOOTH & NAIL WINERY from 5:30 - 8:30 p.m. Ben & Emily at The Pony Club at 5:00 p.m. Bobby Santa Cruz at The Paso Inn at 9:30 p.m. The Turkey Buzzards at The Barrelhouse at 5:30 p.m.
DESCRIPTION:
X-ALT-DESC;FMTTYPE=text/html:
LOCATION:
UID:e.2488.6103
SEQUENCE:3
DTSTAMP:20260423T224910Z
URL:https://business.pasorobleschamber.com/events/details/jill-knight-at-tooth-nail-winery-from-5-30-8-30-p-m-ben-emily-at-the-pony-club-at-5-00-p-m-bobby-santa-cruz-at-the-paso-inn-at-9-30-p-m-the-turkey-buzzards-at-the-barrelhouse-at-5-30-p-m-6103
END:VEVENT

END:VCALENDAR
