BEGIN:VCALENDAR
VERSION:2.0
PRODID:-//ChamberMaster//Event Calendar 2.0//EN
METHOD:PUBLISH
X-PUBLISHED-TTL:P3D
REFRESH-INTERVAL:P3D
CALSCALE:GREGORIAN
BEGIN:VEVENT
DTSTART:20160911T000000Z
DTEND:20160911T030000Z
X-MICROSOFT-CDO-ALLDAYEVENT:FALSE
SUMMARY:JJ Cellars\; Wine in the Vines - Featuring ~ Michael Keeney\, Musician and The Hurricane Kitchen
DESCRIPTION:JJ Cellars - Wine in the Vines\,  proudly announces we will have Michael Keeney as special musician for the evening.  Come relax in the beautiful atmosphere.  Swirl\, Sip and laugh!  Food By - The Hurricane Kitchen. Please call the tasting room to RSVP at 805-467-2891
X-ALT-DESC;FMTTYPE=text/html:JJ Cellars - Wine in the Vines\, &nbsp\;proudly announces we will have Michael Keeney as special musician for the evening.&nbsp\; Come relax in the beautiful atmosphere.&nbsp\; Swirl\, Sip and laugh!&nbsp\; Food By - The Hurricane Kitchen. Please call the tasting room to RSVP at 805-467-2891
LOCATION:2850 Ranchita Canyon Road\, San Miguel\, CA 93451
UID:e.2488.5226
SEQUENCE:3
DTSTAMP:20260424T081228Z
URL:https://business.pasorobleschamber.com/events/details/jj-cellars-wine-in-the-vines-featuring-michael-keeney-musician-and-the-hurricane-kitchen-5226
END:VEVENT

END:VCALENDAR
