BEGIN:VCALENDAR
VERSION:2.0
PRODID:-//ChamberMaster//Event Calendar 2.0//EN
METHOD:PUBLISH
X-PUBLISHED-TTL:P3D
REFRESH-INTERVAL:P3D
CALSCALE:GREGORIAN
BEGIN:VEVENT
DTSTART:20180410T180000Z
DTEND:20180410T200000Z
X-MICROSOFT-CDO-ALLDAYEVENT:FALSE
SUMMARY:Job and Resource Fair at the Paso Robles Inn Ballroom
DESCRIPTION:Over 40 major employers will be attending this Job and Resource Fair.    It is Free and open to everyone.   Bring resumes and dress for success.    Are you new to Paso Robles?   This is a great way to find a job and meet employers in the area.
X-ALT-DESC;FMTTYPE=text/html:<span style="font-size:20px"><span style="font-family:arial\,helvetica\,sans-serif">Over 40 major employers will be attending this Job and Resource Fair.&nbsp\; &nbsp\; It is Free and open to everyone.&nbsp\; &nbsp\;Bring resumes and dress for success.&nbsp\; &nbsp\; Are you new to Paso Robles?&nbsp\; &nbsp\;This is a great way to find a job and meet employers in the area.</span></span>
LOCATION:Paso Robles Inn Ballroom - 1103 Spring St. Paso Robles
UID:e.2488.8056
SEQUENCE:3
DTSTAMP:20260422T013514Z
URL:https://business.pasorobleschamber.com/events/details/job-and-resource-fair-at-the-paso-robles-inn-ballroom-8056
END:VEVENT

END:VCALENDAR
