BEGIN:VCALENDAR
VERSION:2.0
PRODID:-//ChamberMaster//Event Calendar 2.0//EN
METHOD:PUBLISH
X-PUBLISHED-TTL:P3D
REFRESH-INTERVAL:P3D
CALSCALE:GREGORIAN
BEGIN:VEVENT
DTSTART:20250706T010000Z
DTEND:20250706T040000Z
X-MICROSOFT-CDO-ALLDAYEVENT:FALSE
SUMMARY:July First Saturday
DESCRIPTION:Peruse "Earth Gowns: Earth\, Air\, Fire\, Water" while enjoying music by Marco Patson and wine from our library collection.
X-ALT-DESC;FMTTYPE=text/html:Peruse &ldquo\;Earth Gowns: Earth\, Air\, Fire\, Water&rdquo\; while enjoying music by Marco Patson and wine from our library collection.
LOCATION:Studios on the Park 1130 Pine St Paso Robles\, Ca 93446
UID:e.2488.19781
SEQUENCE:3
DTSTAMP:20260421T075548Z
URL:https://business.pasorobleschamber.com/events/details/july-first-saturday-19781
END:VEVENT

END:VCALENDAR
