BEGIN:VCALENDAR
VERSION:2.0
PRODID:-//ChamberMaster//Event Calendar 2.0//EN
METHOD:PUBLISH
X-PUBLISHED-TTL:P3D
REFRESH-INTERVAL:P3D
CALSCALE:GREGORIAN
BEGIN:VEVENT
DTSTART:20180715T010000Z
DTEND:20180715T050000Z
X-MICROSOFT-CDO-ALLDAYEVENT:FALSE
SUMMARY:July's Private Dinner at Wild Coyote Estate Winery
DESCRIPTION:Our private winemaker dinners are once a month\, and limited seating for a maximum of 20-guests .  Kati (Owner's wife) is the main host\; she designs all the menus\, prepares all the items fresh "farm-to-table"\, and serves in a friendly style hospitality.  DInner includes a bottle of Wild Coyote's Classic Reds.  Gianni (Owner/Winemaker) will make a round and toast a glass of wine with all his guests...\nDinner Menu:\n\nFirst Course: Stuffed Portobella Mushrooms\n\nSecond Course: Baby Spinach Salad    \n\nMain Course: BBQ'd Spilt Chicken with Aji Sause \n\nSweet Course: Wild Coyote's Version of S'mores
X-ALT-DESC;FMTTYPE=text/html:<p><span style="font-size:14px"><span style="font-family:comic sans ms">Our private winemaker dinners are once a month\, and limited seating for a maximum of 20-guests .&nbsp\; Kati (Owner&#39\;s wife) is the main host\; she designs all the menus\, prepares all the items fresh &quot\;farm-to-table&quot\;\, and serves in a friendly style hospitality.&nbsp\; DInner includes a bottle of Wild Coyote&#39\;s Classic Reds.&nbsp\; Gianni (Owner/Winemaker) will make a round and toast a glass of wine with all his guests...</span></span></p>\n<span style="font-size:14px"><span style="font-family:comic sans ms"><span style="font-size:16px"><u><strong>Dinner Menu:</strong></u></span><br />\n<u>First Course:</u>&nbsp\;Stuffed Portobella Mushrooms<br />\n<u>Second Course:</u> Baby Spinach Salad</span></span>&nbsp\;&nbsp\;&nbsp\;&nbsp\;<br />\n<span style="font-size:14px"><span style="font-family:comic sans ms"><u>Main Course:</u>&nbsp\;BBQ&#39\;d Spilt Chicken with Aji Sause&nbsp\;<br />\n<u>Sweet Course:</u>&nbsp\;Wild Coyote&#39\;s Version of S&#39\;mores</span></span><br />\n&nbsp\;
LOCATION:Wild Coyote Estate Winery 3775 Adelaida Rd Paso Robles CA 93446
UID:e.2488.7936
SEQUENCE:3
DTSTAMP:20260421T235458Z
URL:https://business.pasorobleschamber.com/events/details/july-s-private-dinner-at-wild-coyote-estate-winery-7936
END:VEVENT

END:VCALENDAR
