BEGIN:VCALENDAR
VERSION:2.0
PRODID:-//ChamberMaster//Event Calendar 2.0//EN
METHOD:PUBLISH
X-PUBLISHED-TTL:P3D
REFRESH-INTERVAL:P3D
CALSCALE:GREGORIAN
BEGIN:VEVENT
DTSTART:20180617T010000Z
DTEND:20180617T050000Z
X-MICROSOFT-CDO-ALLDAYEVENT:FALSE
SUMMARY:June's Private Dinner at Wild Coyote Estate Winery
DESCRIPTION:Our private winemaker dinners are once a month\, and limited seating for a maximum of 20-guests .  Kati (Owner's wife) is the main host\; she designs all the menus\, prepares all the items fresh "farm-to-table"\, and serves in a friendly style hospitality.  DInner includes a bottle of Wild Coyote's Classic Reds.  Gianni (Owner/Winemaker) will make a round and toast a glass of wine with all his guests...\nDinner Menu:\n\nFirst Course: Spanish Tortilla \n\nSecond Course: Spanish Style Antipasta Plate\n\nMain Course: Paella with Andouille Sausage\, Shrimp & Chicken\n\nSweet Course: Flan with Local Berries
X-ALT-DESC;FMTTYPE=text/html:<p><span style="font-size:14px"><span style="font-family:comic sans ms">Our private winemaker dinners are once a month\, and limited seating for a maximum of 20-guests .&nbsp\; Kati (Owner&#39\;s wife) is the main host\; she designs all the menus\, prepares all the items fresh &quot\;farm-to-table&quot\;\, and serves in a friendly style hospitality.&nbsp\; DInner includes a bottle of Wild Coyote&#39\;s Classic Reds.&nbsp\; Gianni (Owner/Winemaker) will make a round and toast a glass of wine with all his guests...</span></span></p>\n<span style="font-size:14px"><span style="font-family:comic sans ms"><span style="font-size:16px"><u><strong>Dinner Menu:</strong></u></span><br />\n<u>First Course:</u>&nbsp\;Spanish Tortilla&nbsp\;<br />\n<u>Second Course:</u> Spanish Style Antipasta Plate<br />\n<u>Main Course:</u>&nbsp\;Paella with Andouille Sausage\, Shrimp &amp\; Chicken<br />\n<u>Sweet Course:</u>&nbsp\;Flan with Local Berries</span></span><br />\n&nbsp\;
LOCATION:Wild Coyote Estate Winery 3775 Adelaida Rd Paso Robles CA 93446
UID:e.2488.7935
SEQUENCE:3
DTSTAMP:20260421T202532Z
URL:https://business.pasorobleschamber.com/events/details/june-s-private-dinner-at-wild-coyote-estate-winery-7935
END:VEVENT

END:VCALENDAR
