BEGIN:VCALENDAR
VERSION:2.0
PRODID:-//ChamberMaster//Event Calendar 2.0//EN
METHOD:PUBLISH
X-PUBLISHED-TTL:P3D
REFRESH-INTERVAL:P3D
CALSCALE:GREGORIAN
BEGIN:VEVENT
DTSTART:20260304T200000Z
DTEND:20260304T223000Z
X-MICROSOFT-CDO-ALLDAYEVENT:FALSE
SUMMARY:KCBX's Spring Pledge Drive Kick-Off Celebration
DESCRIPTION:To celebrate the first official day of KCBX's Spring Pledge Drive\, you're invited to drop by the KCBX Studios to help kick things off! Drop by to hand-deliver your pledge to help get the Spring Drive off to a strong start. You can also tour the facilities\, congratulate Frank Lanzone on his recent retirement\, and enjoy food from Sichuan Kitchen SLO. Guests will receive a welcome gift as a token of gratitude for their continued support. Ample parking available in the shopping center across the street. See you there!
X-ALT-DESC;FMTTYPE=text/html:To celebrate the first official day of KCBX&#39\;s Spring Pledge Drive\, you&#39\;re invited to drop by the KCBX Studios to help kick things off! Drop by to hand-deliver your pledge to help get the Spring Drive off to a strong start. You can also tour the facilities\, congratulate Frank Lanzone on his recent retirement\, and enjoy food from Sichuan Kitchen SLO. Guests will receive a welcome gift as a token of gratitude for their continued support. Ample parking available in the shopping center across the street. See you there!
LOCATION:KCBX\, Inc. 4100 Vachell Lane San Luis Obispo\, CA 93401
UID:e.2488.20049
SEQUENCE:3
DTSTAMP:20260420T215655Z
URL:https://business.pasorobleschamber.com/events/details/kcbx-s-spring-pledge-drive-kick-off-celebration-20049
END:VEVENT

END:VCALENDAR
