BEGIN:VCALENDAR
VERSION:2.0
PRODID:-//ChamberMaster//Event Calendar 2.0//EN
METHOD:PUBLISH
X-PUBLISHED-TTL:P3D
REFRESH-INTERVAL:P3D
CALSCALE:GREGORIAN
BEGIN:VEVENT
DTSTART;VALUE=DATE:20240606
DTEND;VALUE=DATE:20240608
TRANSP:TRANSPARENT
X-MICROSOFT-CDO-ALLDAYEVENT:TRUE
SUMMARY:Kennedy Club Fitness HUNGER AWARENESS DAY fundraiser
DESCRIPTION:Kennedy Club Fitness is holding a hunger awareness day fundraiser on Friday June 7th\, we will be collecting donations throughout the clubs and also in our group exercise classes all day.
X-ALT-DESC;FMTTYPE=text/html:Kennedy Club Fitness is holding a hunger awareness day fundraiser on Friday June 7th\, we will be collecting donations throughout the clubs and also in our group exercise classes all day.&nbsp\;
LOCATION:
UID:e.2488.15486
SEQUENCE:3
DTSTAMP:20260422T194926Z
URL:https://business.pasorobleschamber.com/events/details/kennedy-club-fitness-hunger-awareness-day-fundraiser-15486
END:VEVENT

END:VCALENDAR
