BEGIN:VCALENDAR
VERSION:2.0
PRODID:-//ChamberMaster//Event Calendar 2.0//EN
METHOD:PUBLISH
X-PUBLISHED-TTL:P3D
REFRESH-INTERVAL:P3D
CALSCALE:GREGORIAN
BEGIN:VEVENT
DTSTART:20170429T183000Z
DTEND:20170429T203000Z
X-MICROSOFT-CDO-ALLDAYEVENT:FALSE
SUMMARY:Kiara Bella "Spice Up Your Summer" BBQ Party
DESCRIPTION:Introducing our Kiara Bella gourmet package\, "Spice Up Your Summer"! To celebrate an early start to a long summer\, join us Saturday\, April 29th\, from 11:30am to 1:30pm\, out on the winery lawn to fire up the grill\, sip a glass of Kiara Bella wine\, and get a preview of the amazing flavors packed into this spectacular set. Make this your lunch stop for your day in beautiful Paso Robles wine country--we've got a massive Santa Maria grill where we'll be cooking up a picnic plate of BBQ ribs\, corn on the cob and other favorites\, with a glass of the perfect summertime sipper--Kiara Bella White\, Red or the new 2016 Ros . Tickets for lunch are just $20 per person or $15 for La Famiglia.\n\n\n\nPick up a complete "Spice Up Your Summer" set and get two lunches included with the set! RSVP and let us know you'll be there\, by calling Savannah at 805-227-4000 or emailing s.romero@levignewinery.com.
X-ALT-DESC;FMTTYPE=text/html:<span style="color:rgb(75\, 79\, 86)\; font-family:helvetica\,arial\,sans-serif\; font-size:14px">Introducing our Kiara Bella gourmet package\, &quot\;Spice Up Your Summer&quot\;! To celebrate an early start to a long summer\, join us Saturday\, April 29th\, from 11:30am to 1:30pm\, out on the winery lawn to fire up the grill\, sip a glass of Kiara Bella wine\, and get a preview of the amazing flavors packed into this spectacular set. Make this your lunch stop for your day in beautiful Paso Robles wine country--we&#39\;ve got a massive Santa Maria grill where we&#39\;ll be cooking up a picnic plate of BBQ ribs\, corn on the cob and other favorites\, with a glass of the perfect summertime sipper--Kiara Bella White\, Red or the new 2016 Ros&eacute\;. Tickets for lunch are just $20 per person or $15 for La Famiglia.</span><br />\n<br />\n<span style="color:rgb(75\, 79\, 86)\; font-family:helvetica\,arial\,sans-serif\; font-size:14px">Pick up a complete &quot\;Spice Up Your Summer&quot\; set and get two lunches included with the set! RSVP and let us know you&#39\;ll be there\, by calling Savannah at 805-227-4000 or emailing s.romero@levignewinery.com</span><span style="color:rgb(75\, 79\, 86)\; font-family:helvetica\,arial\,sans-serif\; font-size:14px">.</span>
LOCATION:Le Vigne Winery 5115 Buena Vista Drive Paso Robles\, CA 93446
UID:e.2488.6433
SEQUENCE:3
DTSTAMP:20260423T232222Z
URL:https://business.pasorobleschamber.com/events/details/kiara-bella-spice-up-your-summer-bbq-party-6433
END:VEVENT

END:VCALENDAR
