BEGIN:VCALENDAR
VERSION:2.0
PRODID:-//ChamberMaster//Event Calendar 2.0//EN
METHOD:PUBLISH
X-PUBLISHED-TTL:P3D
REFRESH-INTERVAL:P3D
CALSCALE:GREGORIAN
BEGIN:VEVENT
DTSTART:20251124T170000Z
DTEND:20251126T210000Z
X-MICROSOFT-CDO-ALLDAYEVENT:FALSE
SUMMARY:KID'S HOLIDAY SPORTS CAMP
DESCRIPTION:For kids ages 7 to 12\, come learn to play tennis\, pickle- ball\, bocce\, and other games and fun activities at the Central Coast's premier tennis & pickleball club! Session 1: Monday\, November 24 - Wednesday\, November 26 $180/members\, $200/guests\, (9am to 1pm each day). Each day includes over 3 hours of tennis and/or pickleball instruction led by our Certified Tennis and Pickleball Pros. Campers must bring their own snack and sack lunch. Snacks and drinks (water\, juice\, gatorade) will be provided. Templeton Tennis Ranch 345 Championship Lane\, Templeton CA (805) 434-9605 MEMBER DISCOUNT: TTR Members save approx. 10% off ses- sion fee. SIBLING DISCOUNT: Save 20% off of the session fee for a second sibling participant. Save 30% off for each additional sibling participant. MULTI-SESSION DISCOUNT: Save 10% off each additon- al session fee when registering for a second or third session. First child only - does not apply to siblings.
X-ALT-DESC;FMTTYPE=text/html:For kids ages 7 to 12\, come learn to play tennis\, pickle- ball\, bocce\, and other games and fun activities at the Central Coast&rsquo\;s premier tennis &amp\; pickleball club! Session 1: Monday\, November 24 - Wednesday\, November 26 $180/members\, $200/guests\, (9am to 1pm each day). Each day includes over 3 hours of tennis and/or pickleball instruction led by our Certified Tennis and Pickleball Pros. Campers must bring their own snack and sack lunch. Snacks and drinks (water\, juice\, gatorade) will be provided. Templeton Tennis Ranch 345 Championship Lane\, Templeton CA (805) 434-9605 MEMBER DISCOUNT: TTR Members save approx. 10% off ses- sion fee. SIBLING DISCOUNT: Save 20% off of the session fee for a second sibling participant. Save 30% off for each additional sibling participant. MULTI-SESSION DISCOUNT: Save 10% off each additon- al session fee when registering for a second or third session. First child only - does not apply to siblings.
LOCATION:Templeton Tennis Ranch 345 Championship Lane\, Templeton\, CA\, United States\, California 93465
UID:e.2488.19911
SEQUENCE:3
DTSTAMP:20260423T234834Z
URL:https://business.pasorobleschamber.com/events/details/kid-s-holiday-sports-camp-19911
END:VEVENT

END:VCALENDAR
