BEGIN:VCALENDAR
VERSION:2.0
PRODID:-//ChamberMaster//Event Calendar 2.0//EN
METHOD:PUBLISH
X-PUBLISHED-TTL:P3D
REFRESH-INTERVAL:P3D
CALSCALE:GREGORIAN
BEGIN:VEVENT
DTSTART:20180318T020000Z
DTEND:20180318T050000Z
X-MICROSOFT-CDO-ALLDAYEVENT:FALSE
SUMMARY:King Vidor Award and After Party
DESCRIPTION:AWARD CEREMONY\n\nJoin us for a festive evening as we celebrate award-winning films and our 2018 King Vidor Award recipient on the stage of the historic Fremont Theatre. The George Sidney Independent Film Awards\, presented each year in several categories\, are juried by film and media professionals. Major festival sponsors will be on hand to present the awards\, and all winning films will screen at the Downtown Cinemas in the four days following the festival (March 19-22) courtesy of the Movie Experience. \n\n\n\nSaturday\, March 17\n\n7:00pm Fremont Theatre\, SLO $20 General / $15 Students / All Access Passes & Red Carpet Tickets\n\n\n\nAFTER PARTY \n\nParty the night away with award winners and some great SLO Jazz\, and vie for your own awards! Come dressed as your favorite celebrity\, or even better as a Celebrity Look-a-Like and win passes to the 2019 SLO Film Fest...and more! Special St. Patrick's Day prize goes to the Best Irish Celebrity costume! \n\n\n\nSaturday\, March 17\n\n8:30pm Festival Tent\, Mission Plaza All Access Passes only. Rush Tickets: $50 General / $45 Students
X-ALT-DESC;FMTTYPE=text/html:<strong><span style="color:rgb(75\, 79\, 86)\; font-family:sf optimized\,system-ui\,-apple-system\,blinkmacsystemfont\,.sfnstext-regular\,sans-serif\; font-size:14px">AWARD CEREMONY</span></strong><br />\n<span style="color:rgb(75\, 79\, 86)\; font-family:sf optimized\,system-ui\,-apple-system\,blinkmacsystemfont\,.sfnstext-regular\,sans-serif\; font-size:14px">Join us for a festive evening as we celebrate award-winning films and our 2018 King Vidor Award recipient on the stage of the historic Fremont Theatre. The George Sidney Independent Film Awards\, presented each year in several categories\, are juried by film and media professionals. Major festival sponsors will be on hand to present the awards\, and all winning films will screen at the Downtown Cinemas in the four days following the festival (March 19-22) courtesy of the Movie Experience.&nbsp\;</span><br />\n<br />\n<span style="color:rgb(75\, 79\, 86)\; font-family:sf optimized\,system-ui\,-apple-system\,blinkmacsystemfont\,.sfnstext-regular\,sans-serif\; font-size:14px">Saturday\, March 17</span><br />\n<span style="color:rgb(75\, 79\, 86)\; font-family:sf optimized\,system-ui\,-apple-system\,blinkmacsystemfont\,.sfnstext-regular\,sans-serif\; font-size:14px">7:00pm Fremont Theatre\, SLO $20 General / $15 Students / All Access Passes &amp\; Red Carpet Tickets</span><br />\n<br />\n<strong><span style="color:rgb(75\, 79\, 86)\; font-family:sf optimized\,system-ui\,-apple-system\,blinkmacsystemfont\,.sfnstext-regular\,sans-serif\; font-size:14px">AFTER PARTY&nbsp\;</span></strong><br />\n<span style="color:rgb(75\, 79\, 86)\; font-family:sf optimized\,system-ui\,-apple-system\,blinkmacsystemfont\,.sfnstext-regular\,sans-serif\; font-size:14px">Party the night away with award winners and some great SLO Jazz\, and vie for your own awards! Come dressed as your favorite celebrity\, or even better as a Celebrity Look-a-Like and win passes to the 2019 SLO Film Fest...and more! Special St. Patrick&rsquo\;s Day prize goes to the Best Irish Celebrity costume!&nbsp\;</span><br />\n<br />\n<span style="color:rgb(75\, 79\, 86)\; font-family:sf optimized\,system-ui\,-apple-system\,blinkmacsystemfont\,.sfnstext-regular\,sans-serif\; font-size:14px">Saturday\, March 17</span><br />\n<span style="color:rgb(75\, 79\, 86)\; font-family:sf optimized\,system-ui\,-apple-system\,blinkmacsystemfont\,.sfnstext-regular\,sans-serif\; font-size:14px">8:30pm Festival Tent\, Mission Plaza All Access Passes only. Rush Tickets: $50 General / $45 Students</span>
LOCATION:Award Ceremony: Fremont Theater\, SLO After Party: Festival Tent\, Mission Plaza
UID:e.2488.8006
SEQUENCE:3
DTSTAMP:20260422T045839Z
URL:https://business.pasorobleschamber.com/events/details/king-vidor-award-and-after-party-8006
END:VEVENT

END:VCALENDAR
