BEGIN:VCALENDAR
VERSION:2.0
PRODID:-//ChamberMaster//Event Calendar 2.0//EN
METHOD:PUBLISH
X-PUBLISHED-TTL:P3D
REFRESH-INTERVAL:P3D
CALSCALE:GREGORIAN
BEGIN:VEVENT
DTSTART:20171005T220000Z
DTEND:20171006T010000Z
X-MICROSOFT-CDO-ALLDAYEVENT:FALSE
SUMMARY:Kiwanis Club of Paso Robles DRIVE THROUGH BBQ Fundraiser
DESCRIPTION:DRIVE THROUGH\n\nKiwanis Club of Paso Robles is hosting their famous BBQ Fundraiser on October 5 from 3-6 p.m. in the Kings Oil Tools parking lot on the corner of 22nd and Spring Streets. Each dinner comes complete with Tri-Tip BBQ\, beans\, salad\, bread and a complementary\, re-usable tote bag. Dinner for four is $45 while dinner for two is $25. Reserve your meal by buying a ticket TODAY because once folks smell the Tri-Tip cooking\, we always run out! Email: june.shneider@reagan.com to reserve your tickets today! Kiwanis Club of Paso Robles has been servicing the community since 1948 by raising funds to support youth groups\, community service projects and student scholarships. Proceeds from this BBQ fundraiser will help fund scholarships benefiting high school students from throughout our community.
X-ALT-DESC;FMTTYPE=text/html:<strong>DRIVE THROUGH</strong><br />\nKiwanis Club of Paso Robles is hosting their famous BBQ Fundraiser on October 5 from 3-6 p.m. in the Kings Oil Tools parking lot on the corner of 22nd and Spring Streets. Each dinner comes complete with Tri-Tip BBQ\, beans\, salad\, bread and a complementary\, re-usable tote bag. Dinner for four is $45 while dinner for two is $25. Reserve your meal by buying a ticket TODAY because once folks smell the Tri-Tip cooking\, we always run out! Email: june.shneider@reagan.com&nbsp\;to reserve your tickets today! Kiwanis Club of Paso Robles has been servicing the community since 1948 by raising funds to support youth groups\, community service projects and student scholarships. Proceeds from this BBQ fundraiser will help fund scholarships benefiting high school students from throughout our community.
LOCATION:Kings Oil Tools parking lot on the corner of 22nd and Spring Streets
UID:e.2488.6607
SEQUENCE:3
DTSTAMP:20260423T081503Z
URL:https://business.pasorobleschamber.com/events/details/kiwanis-club-of-paso-robles-drive-through-bbq-fundraiser-6607
END:VEVENT

END:VCALENDAR
