BEGIN:VCALENDAR
VERSION:2.0
PRODID:-//ChamberMaster//Event Calendar 2.0//EN
METHOD:PUBLISH
X-PUBLISHED-TTL:P3D
REFRESH-INTERVAL:P3D
CALSCALE:GREGORIAN
BEGIN:VEVENT
DTSTART:20180414T150000Z
DTEND:20180415T210000Z
X-MICROSOFT-CDO-ALLDAYEVENT:FALSE
SUMMARY:Kiwanis - Goodwill Donation Collection for Local Kids
DESCRIPTION:On April 14 and 15 (Saturday and Sunday) from 8 AM to 2 PM each day\, the Kiwanis Club of Paso Robles and Goodwill Industries are teaming up to run a donation station to support local high school students. For every donation trailer we fill up\, Goodwill will donate money to the Kiwanis Club Scholarship Fund. We can accept gently used\, clean\, clothes\, toys\, household items\, functioning small appliances\, and electronics. Non-working TVs and electronics are OK. So clean out your closets and garages while supporting a local kid!! Location: Culinary Art Academy\, 1900 Rolling Hill Road. Go to our website for more info (www.pasokiwanis.org/) or call (805) 591-4024.
X-ALT-DESC;FMTTYPE=text/html:On April 14 and 15 (Saturday and Sunday) from 8 AM to 2 PM each day\, the Kiwanis Club of Paso Robles and Goodwill Industries are teaming up to run a donation station to support local high school students. For every donation trailer we fill up\, Goodwill will donate money to the Kiwanis Club Scholarship Fund. We can accept gently used\, clean\, clothes\, toys\, household items\, functioning small appliances\, and electronics. Non-working TVs and electronics are OK. So clean out your closets and garages while supporting a local kid!! Location: Culinary Art Academy\, 1900 Rolling Hill Road. Go to our website for more info (www.pasokiwanis.org/) or call (805) 591-4024.
LOCATION:Culinary Art Academy\, 1900 Rolling Hill Road
UID:e.2488.8116
SEQUENCE:3
DTSTAMP:20260422T013018Z
URL:https://business.pasorobleschamber.com/events/details/kiwanis-goodwill-donation-collection-for-local-kids-8116
END:VEVENT

END:VCALENDAR
