BEGIN:VCALENDAR
VERSION:2.0
PRODID:-//ChamberMaster//Event Calendar 2.0//EN
METHOD:PUBLISH
X-PUBLISHED-TTL:P3D
REFRESH-INTERVAL:P3D
CALSCALE:GREGORIAN
BEGIN:VEVENT
DTSTART:20180608T220000Z
DTEND:20180609T010000Z
X-MICROSOFT-CDO-ALLDAYEVENT:FALSE
SUMMARY:Kiwanis Paso Club BBQ Fundraiser for Local Kids
DESCRIPTION:Dinner for four people includes our signature\, Harris Ranch Ball-Tip BBQ Beef\, savory smoky beans\, grilled bread and salad for only $45!! Or two dinners only $25. But why buy only 2 meals when you can save $5 with 4 and have leftovers!!! You can't eat out for that price and it's already perfectly cooked and ready to eat. Enjoy an awesome meal while helping us raise scholarship funds for graduating high school seniors\, other projects to help kids in our local community. Contact info: info@pasokiwanis.org or www.pasokiwanis.org\, (805) 591-4024.
X-ALT-DESC;FMTTYPE=text/html:Dinner for four people includes our signature\, Harris Ranch Ball-Tip BBQ Beef\, savory smoky beans\, grilled bread and salad for only $45!! Or two dinners only $25. But why buy only 2 meals when you can save $5 with 4 and have leftovers!!! You can&#39\;t eat out for that price and it&#39\;s already perfectly cooked and ready to eat. Enjoy an awesome meal while helping us raise scholarship funds for graduating high school seniors\, other projects to help kids in our local community. Contact info: info@pasokiwanis.org or www.pasokiwanis.org\, (805) 591-4024.
LOCATION:Kings Oil Tools parking lot on the corner of 22nd and Spring Streets.
UID:e.2488.9169
SEQUENCE:3
DTSTAMP:20260421T215656Z
URL:https://business.pasorobleschamber.com/events/details/kiwanis-paso-club-bbq-fundraiser-for-local-kids-9169
END:VEVENT

END:VCALENDAR
