BEGIN:VCALENDAR
VERSION:2.0
PRODID:-//ChamberMaster//Event Calendar 2.0//EN
METHOD:PUBLISH
X-PUBLISHED-TTL:P3D
REFRESH-INTERVAL:P3D
CALSCALE:GREGORIAN
BEGIN:VEVENT
DTSTART:20170521T180000Z
DTEND:20170522T000000Z
X-MICROSOFT-CDO-ALLDAYEVENT:FALSE
SUMMARY:Lamb Tacos\, Wine and Live Music at Changala
DESCRIPTION:Come join Changala Sunday\, May 21 for Lamb Tacos! Deep rooted in our Basque tradition\, these tacos pair perfectly with our wines! Enjoy the Creekside outdoor space while you listen to live music by the WINE COUNTRY TROUBADOURS!
X-ALT-DESC;FMTTYPE=text/html:Come join Changala Sunday\, May 21 for Lamb Tacos! Deep rooted in our Basque tradition\, these tacos pair perfectly with our wines! Enjoy the Creekside outdoor space while you listen to live music by the WINE COUNTRY TROUBADOURS!&nbsp\;
LOCATION:3770 Willow Creek Rd Paso Robles\, CA 93446
UID:e.2488.6471
SEQUENCE:3
DTSTAMP:20260423T172500Z
URL:https://business.pasorobleschamber.com/events/details/lamb-tacos-wine-and-live-music-at-changala-6471
END:VEVENT

END:VCALENDAR
