BEGIN:VCALENDAR
VERSION:2.0
PRODID:-//ChamberMaster//Event Calendar 2.0//EN
METHOD:PUBLISH
X-PUBLISHED-TTL:P3D
REFRESH-INTERVAL:P3D
CALSCALE:GREGORIAN
BEGIN:VEVENT
DTSTART:20170115T190000Z
DTEND:20170115T210000Z
X-MICROSOFT-CDO-ALLDAYEVENT:FALSE
SUMMARY:Le Vigne Winery Blending Seminar
DESCRIPTION:Step into the shoes of Le Vigne's Winemaker\, Michael Barreto\, as he teaches how to create the perfect red wine blend.  With a bit of winemaker expertise\, some thoughtful calculations\, and a dash of finesse\, you will make your own unique\, personal blend to take home.  Several compatible red wines will be available for you to taste individually and blend to your heart's desire.  Once you've run your experiments\, taste testing along the way\, relax and enjoy a gourmet lunch while your custom bottle is assembled.\n\nJoin us for this special session that is sure to be equal parts informative and entertaining with a unique hands-on experience!\n\nThe cost is $75 per person or $65 for La Famiglia members.  This includes entry\, lunch\, and a 750mL bottle of your red wine blend with a personalized label.  Call today to reserve your spot!
X-ALT-DESC;FMTTYPE=text/html:<p style="text-align: center\;">Step into the shoes of Le Vigne&#39\;s Winemaker\, Michael Barreto\, as he teaches how to create the perfect red wine blend. &nbsp\;With a bit of winemaker expertise\, some thoughtful calculations\, and a dash of finesse\, you will make your own unique\, personal blend to take home. &nbsp\;Several compatible red wines will be available for you to taste individually and blend to your heart&#39\;s desire. &nbsp\;Once you&#39\;ve run your experiments\, taste testing along the way\, relax and enjoy a gourmet lunch while your custom bottle is assembled.</p>\n\n<p style="text-align: center\;">Join us for this special session that is sure to be equal parts informative and entertaining with a unique hands-on experience!</p>\n\n<p style="text-align: center\;">The cost is $75 per person or $65 for La Famiglia members. &nbsp\;This includes entry\, lunch\, and a 750mL bottle of your red wine blend with a personalized label. &nbsp\;Call today to reserve your spot!</p>\n
LOCATION:Le Vigne Winery 5115 Buena Vista Dr. Paso Robles\, CA 93446
UID:e.2488.5701
SEQUENCE:3
DTSTAMP:20260424T014629Z
URL:https://business.pasorobleschamber.com/events/details/le-vigne-winery-blending-seminar-5701
END:VEVENT

END:VCALENDAR
