BEGIN:VCALENDAR
VERSION:2.0
PRODID:-//ChamberMaster//Event Calendar 2.0//EN
METHOD:PUBLISH
X-PUBLISHED-TTL:P3D
REFRESH-INTERVAL:P3D
CALSCALE:GREGORIAN
BEGIN:VEVENT
DTSTART:20180901T190000Z
DTEND:20180902T230000Z
X-MICROSOFT-CDO-ALLDAYEVENT:FALSE
SUMMARY:Leo Leo Gelato Kick-Off Weekend at Summerwood
DESCRIPTION:To celebrate the launch of Leo Leo Gelato in our tasting room\, we will be offering FREE gelato to our guests over Labor Day Weekend!\n\nSaturday\, September 1\n\nSunday\, September 2\n\nServing from 12:00pm   4:00pm\n\nExtend your summer with this amazing frozen treat Hooray for gelato!
X-ALT-DESC;FMTTYPE=text/html:To celebrate the launch of Leo Leo Gelato in our tasting room\, we will be offering FREE gelato to our guests over Labor Day Weekend!<br />\nSaturday\, September 1<br />\nSunday\, September 2<br />\nServing from 12:00pm &ndash\; 4:00pm<br />\nExtend your summer with this amazing frozen treat&hellip\;Hooray for gelato!
LOCATION:Summerwood Winery & Inn 2175 Arbor Rd. Paso Robles\, CA 93446
UID:e.2488.9531
SEQUENCE:3
DTSTAMP:20260421T165053Z
URL:https://business.pasorobleschamber.com/events/details/leo-leo-gelato-kick-off-weekend-at-summerwood-9531
END:VEVENT

END:VCALENDAR
