BEGIN:VCALENDAR
VERSION:2.0
PRODID:-//ChamberMaster//Event Calendar 2.0//EN
METHOD:PUBLISH
X-PUBLISHED-TTL:P3D
REFRESH-INTERVAL:P3D
CALSCALE:GREGORIAN
BEGIN:VEVENT
DTSTART:20180315T020000Z
DTEND:20180315T050000Z
X-MICROSOFT-CDO-ALLDAYEVENT:FALSE
SUMMARY:Let it Shine & Catching Sight of Thelma and Louise
DESCRIPTION:LET IT SHINE: THE STORY OF THE WOMEN'S MARCH SLO\n\nLike many marches happening around the world on January 20\, 2017\, the Women's March SLO was a unifying event for a wide variety of causes and peoples. This is a fun look back at how a true grassroots effort led to the largest assembly of its kind in San Luis Obispo   10\,000 strong! Documentary. 22 min.\n\nDirector/Producer: Robert Williams\n\nCo-Producer: Women's March SLO organizers\n\n\n\nCATCHING SIGHT OF THELMA & LOUISE\n\nFilmgoers are taken on a wild ride with Thelma and Louise\, beginning when they leave on their weekend getaway and ending when they sail off the canyon's edge. We revisit their extraordinary journey through the lens of viewers who saw the namesake film in 1991 and\, in a survey\, wrote about the feelings it engendered at that time. Twenty-five years later\, the same viewers share their present-day perceptions\, comparing them with their first reactions\, as do some of the original cast members. Clips from the original film serve as a catalyst for intimate\, personal stories of women's experience in the real world.\n\n\n\nThis is a fascinating study of then and now\, and how much or how little things have changed since "Thelma and Louise" first startled movie-going audiences. Documentary. 87 min.
X-ALT-DESC;FMTTYPE=text/html:<em><strong><span style="color:rgb(75\, 79\, 86)\; font-family:sf optimized\,system-ui\,-apple-system\,blinkmacsystemfont\,.sfnstext-regular\,sans-serif\; font-size:14px">LET IT SHINE: THE STORY OF THE WOMEN&rsquo\;S MARCH SLO</span></strong></em><br />\n<span style="color:rgb(75\, 79\, 86)\; font-family:sf optimized\,system-ui\,-apple-system\,blinkmacsystemfont\,.sfnstext-regular\,sans-serif\; font-size:14px">Like many marches happening around the world on January 20\, 2017\, the Women&rsquo\;s March SLO was a unifying event for a wide variety of causes and peoples. This is a fun look back at how a true grassroots effort led to the largest assembly of its kind in San Luis Obispo &ndash\; 10\,000 strong! Documentary. 22 min.</span><br />\n<span style="color:rgb(75\, 79\, 86)\; font-family:sf optimized\,system-ui\,-apple-system\,blinkmacsystemfont\,.sfnstext-regular\,sans-serif\; font-size:14px">Director/Producer: Robert Williams</span><br />\n<span style="color:rgb(75\, 79\, 86)\; font-family:sf optimized\,system-ui\,-apple-system\,blinkmacsystemfont\,.sfnstext-regular\,sans-serif\; font-size:14px">Co-Producer: Women&rsquo\;s March SLO organizers</span><br />\n<br />\n<em><strong><span style="color:rgb(75\, 79\, 86)\; font-family:sf optimized\,system-ui\,-apple-system\,blinkmacsystemfont\,.sfnstext-regular\,sans-serif\; font-size:14px">CATCHING SIGHT OF THELMA &amp\; LOUISE</span></strong></em><br />\n<span style="color:rgb(75\, 79\, 86)\; font-family:sf optimized\,system-ui\,-apple-system\,blinkmacsystemfont\,.sfnstext-regular\,sans-serif\; font-size:14px">Filmgoers are taken on a wild ride with Thelma and Louise\, beginning when they leave on their weekend getaway and ending when they sail off the canyon&rsquo\;s edge. We revisit their extraordinary journey through the lens of viewers who saw the namesake film i</span><span style="color:rgb(75\, 79\, 86)\; font-family:sf optimized\,system-ui\,-apple-system\,blinkmacsystemfont\,.sfnstext-regular\,sans-serif\; font-size:14px">n 1991 and\, in a survey\, wrote about the feelings it engendered at that time. Twenty-five years later\, the same viewers share their present-day perceptions\, comparing them with their first reactions\, as do some of the original cast members. Clips from the original film serve as a catalyst for intimate\, personal stories of women&rsquo\;s experience in the real world.<br />\n<br />\nThis is a fascinating study of then and now\, and how much or how little things have changed since &ldquo\;Thelma and Louise&rdquo\; first startled movie-going audiences. Documentary. 87 min.</span>
LOCATION:Fremont Theater\, SLO
UID:e.2488.8001
SEQUENCE:3
DTSTAMP:20260422T051104Z
URL:https://business.pasorobleschamber.com/events/details/let-it-shine-catching-sight-of-thelma-and-louise-8001
END:VEVENT

END:VCALENDAR
