BEGIN:VCALENDAR
VERSION:2.0
PRODID:-//ChamberMaster//Event Calendar 2.0//EN
METHOD:PUBLISH
X-PUBLISHED-TTL:P3D
REFRESH-INTERVAL:P3D
CALSCALE:GREGORIAN
BEGIN:VEVENT
DTSTART:20250823T170000Z
DTEND:20250823T230000Z
X-MICROSOFT-CDO-ALLDAYEVENT:FALSE
SUMMARY:Let's Make a Deal\, Paso! (Trading Day)
DESCRIPTION:Sat.\, August 23\, 2025 from 10 am to 4 pm Let's Make a Deal\, Paso -- bring you wares\, arts and crafts to the Downtown City Park. Food vendors\, Kids' Flea Market and Comic Book Expo.
X-ALT-DESC;FMTTYPE=text/html:Sat.\, August 23\, 2025 from 10 am to 4 pm Let&#39\;s Make a Deal\, Paso -- bring you wares\, arts and crafts to the Downtown City Park. Food vendors\, Kids&#39\; Flea Market and Comic Book Expo.
LOCATION:Downtown Paso Robles City Park
UID:e.2488.17225
SEQUENCE:3
DTSTAMP:20260421T063632Z
URL:https://business.pasorobleschamber.com/events/details/let-s-make-a-deal-paso-trading-day-17225
END:VEVENT

END:VCALENDAR
