BEGIN:VCALENDAR
VERSION:2.0
PRODID:-//ChamberMaster//Event Calendar 2.0//EN
METHOD:PUBLISH
X-PUBLISHED-TTL:P3D
REFRESH-INTERVAL:P3D
CALSCALE:GREGORIAN
BEGIN:VEVENT
DTSTART:20161015T173000Z
DTEND:20161016T183000Z
X-MICROSOFT-CDO-ALLDAYEVENT:FALSE
SUMMARY:Let's Toast Sparkling Wine
DESCRIPTION:Join us Harvest Festival Weekend\, Saturday and Sunday\, for "Let's Toast Sparkling Wine" from around the world\, 10:30-11:30 am. A fun tasting seminar featuring a review of Cava\, Prosecco\, Moscato\, Champagne\, and California Sparkling Wines\, $10/Club\, $20/public.\n\nPlease visit Mitchella Events for tickets and more information.
X-ALT-DESC;FMTTYPE=text/html:Join us Harvest Festival Weekend\, Saturday and Sunday\, for &ldquo\;Let&rsquo\;s Toast Sparkling Wine&rdquo\; from around the world\,&nbsp\;10:30-11:30 am. A&nbsp\;fun tasting seminar featuring a review of Cava\,&nbsp\;Prosecco\, Moscato\, Champagne\, and California Sparkling Wines\, $10/Club\, $20/public.<br />\nPlease visit <a href="http://www.mitchella.com/events/index.php?id=75">Mitchella Events</a> for tickets and more information.
LOCATION:Mitchella Vineyard & Winery 2525 Mitchell Ranch Way Paso Robles\, CA 93446
UID:e.2488.5607
SEQUENCE:3
DTSTAMP:20260424T060248Z
URL:https://business.pasorobleschamber.com/events/details/let-s-toast-sparkling-wine-5607
END:VEVENT

END:VCALENDAR
