BEGIN:VCALENDAR
VERSION:2.0
PRODID:-//ChamberMaster//Event Calendar 2.0//EN
METHOD:PUBLISH
X-PUBLISHED-TTL:P3D
REFRESH-INTERVAL:P3D
CALSCALE:GREGORIAN
BEGIN:VEVENT
DTSTART:20161210T020000Z
DTEND:20161210T030000Z
X-MICROSOFT-CDO-ALLDAYEVENT:FALSE
SUMMARY:Light Up A Life
DESCRIPTION:Join Hospice of San Luis Obispo County in honoring the memories of loved ones during the 32nd annual Light Up A Life Remembrance Ceremony in Paso Robles. The community is invited to help shine a light at the Hospice SLO County remembrance ceremony by purchasing a lantern to illuminate the memory of a loved one or to honor someone living.Your loved one's name will be read during the Remembrance Ceremony.
X-ALT-DESC;FMTTYPE=text/html:Join Hospice of San Luis Obispo County in honoring the memories of loved ones during the 32nd annual Light Up A Life Remembrance Ceremony in Paso Robles. The community is invited to help shine a light at the Hospice SLO County remembrance ceremony by purchasing a lantern to illuminate the memory of a loved one or to honor someone living.Your loved one&#39\;s name will be read during the Remembrance Ceremony.
LOCATION:Paso Robles City Park Gazebo
UID:e.2488.5653
SEQUENCE:3
DTSTAMP:20260422T082615Z
URL:https://business.pasorobleschamber.com/events/details/light-up-a-life-5653
END:VEVENT

END:VCALENDAR
