BEGIN:VCALENDAR
VERSION:2.0
PRODID:-//ChamberMaster//Event Calendar 2.0//EN
METHOD:PUBLISH
X-PUBLISHED-TTL:P3D
REFRESH-INTERVAL:P3D
CALSCALE:GREGORIAN
BEGIN:VEVENT
DTSTART:20160910T200000Z
DTEND:20160910T230000Z
X-MICROSOFT-CDO-ALLDAYEVENT:FALSE
SUMMARY:Live Music with Andrew & Anya
DESCRIPTION:Enjoy live music\, a beautiful setting and amazing wines. Wines available by the glass or bottle. Bring a picnic or cheese & charcuterie plates available for purchase. Outside alcohol not allowed. \n\nNo charge for music.
X-ALT-DESC;FMTTYPE=text/html:<span style="background-color:rgb(255\, 255\, 255)\; color:rgb(51\, 51\, 51)\; font-family:sans-serif\,arial\,verdana\,trebuchet ms\; font-size:13px">Enjoy live music\, a beautiful setting and amazing wines. Wines available by the glass or bottle. Bring a picnic or cheese &amp\; charcuterie plates available for purchase. Outside alcohol not allowed.&nbsp\;</span><br />\n<span style="background-color:rgb(255\, 255\, 255)\; color:rgb(51\, 51\, 51)\; font-family:sans-serif\,arial\,verdana\,trebuchet ms\; font-size:13px">No charge for music.&nbsp\;</span>
LOCATION:Wild Horse Winery 1437 Wild Horse Winery Ct Templeton\, CA 93465
UID:e.2488.4732
SEQUENCE:3
DTSTAMP:20260424T090821Z
URL:https://business.pasorobleschamber.com/events/details/live-music-with-andrew-anya-09-10-2016-4732
END:VEVENT

END:VCALENDAR
