BEGIN:VCALENDAR
VERSION:2.0
PRODID:-//ChamberMaster//Event Calendar 2.0//EN
METHOD:PUBLISH
X-PUBLISHED-TTL:P3D
REFRESH-INTERVAL:P3D
CALSCALE:GREGORIAN
BEGIN:VEVENT
DTSTART;VALUE=DATE:20260810
DTEND;VALUE=DATE:20260811
TRANSP:TRANSPARENT
X-MICROSOFT-CDO-ALLDAYEVENT:TRUE
SUMMARY:Locals Night at Firestone Walker
DESCRIPTION:Paso and Templeton residence come join us at the Taproom\, Visitor Center and Emporium all day Monday for 25% off Beer\, Food and Merchandise. The 4pm tour on Mondays is also free to Paso and Templeton Locals. Show your ID to redeem the discount. Tours are first come first serve. Call in to make your tour reservation 805.296.7454
X-ALT-DESC;FMTTYPE=text/html:<br />\nPaso and Templeton residence come join us at the Taproom\, Visitor Center and Emporium all day Monday for 25% off Beer\, Food and Merchandise. The 4pm tour on Mondays is also free to Paso and Templeton Locals. Show your ID to redeem the discount. Tours are first come first serve. Call in to make your tour reservation 805.296.7454
LOCATION:1395 Ramada Dr. Paso Robles\, CA 93446
UID:e.2488.14033
SEQUENCE:3
DTSTAMP:20260421T060259Z
URL:https://business.pasorobleschamber.com/events/details/locals-night-at-firestone-walker-08-10-2026-14033
END:VEVENT

END:VCALENDAR
