BEGIN:VCALENDAR
VERSION:2.0
PRODID:-//ChamberMaster//Event Calendar 2.0//EN
METHOD:PUBLISH
X-PUBLISHED-TTL:P3D
REFRESH-INTERVAL:P3D
CALSCALE:GREGORIAN
BEGIN:VEVENT
DTSTART:20170708T180000Z
DTEND:20170720T023000Z
X-MICROSOFT-CDO-ALLDAYEVENT:FALSE
SUMMARY:Looking for a new way to give back this summer?
DESCRIPTION:Serving as a volunteer youth mentor or "Big\," is a fun and easy way to give back to the community in just 6 hours a month for at least one year. The commitment involves forming a meaningful relationship with a child\, or "Little\," in your region who is facing adversity and has requested support. Big and Little are strategically matched and professionally supported throughout the length of their relationship by agency staff. These one-to-one mentor relationships serve to change children's life for the better\, forever!
X-ALT-DESC;FMTTYPE=text/html:Serving as a volunteer youth mentor or &quot\;Big\,&quot\; is a fun and easy way to give back to the community in just 6 hours a month for at least one year. The commitment involves forming a meaningful relationship with a child\, or &quot\;Little\,&quot\; in your region who is facing adversity and has requested support. Big and Little are strategically matched and professionally supported throughout the length of their relationship by agency staff. These one-to-one mentor relationships serve to&nbsp\;change children&#39\;s life for the better\, forever!
LOCATION:142 Cross St.\, Ste. 140 San Luis Obispo\, CA 93401
UID:e.2488.6542
SEQUENCE:3
DTSTAMP:20260423T111748Z
URL:https://business.pasorobleschamber.com/events/details/looking-for-a-new-way-to-give-back-this-summer-6542
END:VEVENT

END:VCALENDAR
