BEGIN:VCALENDAR
VERSION:2.0
PRODID:-//ChamberMaster//Event Calendar 2.0//EN
METHOD:PUBLISH
X-PUBLISHED-TTL:P3D
REFRESH-INTERVAL:P3D
CALSCALE:GREGORIAN
BEGIN:VEVENT
DTSTART:20170513T200000Z
DTEND:20170513T220000Z
X-MICROSOFT-CDO-ALLDAYEVENT:FALSE
SUMMARY:Louisiana Seafood Boil at Villa San-Juliette
DESCRIPTION:Join us on May 13th\, from 1pm-3pm\, as we celebrate Spring and the bounty of the Central Coast with a Louisiana style seafood boil up here at The Villa. Chef Charlene will be putting on quite a spread for all those who attend\, so don't miss out! Tickets are $30/pp for wine club members and $35/pp for the general public. To reserve your seat call our tasting room at 805.467.0014.
X-ALT-DESC;FMTTYPE=text/html:Join us on May 13th\, from 1pm-3pm\, as we celebrate Spring and the bounty of the Central Coast with a Louisiana style seafood boil up here at The Villa. Chef Charlene will be putting on quite a spread for all those who attend\, so don&#39\;t miss out! Tickets are $30/pp for wine club members and $35/pp for the general public. To reserve your seat call our tasting room at 805.467.0014.
LOCATION:Villa San-Juliette Vineyard and Winery 6385 Cross Canyons Rd San Miguel\, CA 93451
UID:e.2488.6443
SEQUENCE:3
DTSTAMP:20260423T172542Z
URL:https://business.pasorobleschamber.com/events/details/louisiana-seafood-boil-at-villa-san-juliette-6443
END:VEVENT

END:VCALENDAR
