BEGIN:VCALENDAR
VERSION:2.0
PRODID:-//ChamberMaster//Event Calendar 2.0//EN
METHOD:PUBLISH
X-PUBLISHED-TTL:P3D
REFRESH-INTERVAL:P3D
CALSCALE:GREGORIAN
BEGIN:VEVENT
DTSTART:20160903T220000Z
DTEND:20160904T000000Z
X-MICROSOFT-CDO-ALLDAYEVENT:FALSE
SUMMARY:Love Bird Painting
DESCRIPTION:Bring a friend to our Love Birds painting class at Casa Dell Arte\, we are on the campus of San Marcos Creek Vineyard and Winery. You must be 21 to taste wine. Bring yourself\, we have all the itmes you need to create a great painting that you will enjoy creating. Please wear appropriate attire\, we haven't had any paint spilled\, but just in case.
X-ALT-DESC;FMTTYPE=text/html:Bring a friend to our Love Birds painting class at Casa Dell Arte\, we are on the campus of San Marcos Creek Vineyard and Winery. You must be 21 to taste wine. Bring yourself\, we have all the itmes you need to create a great painting that you will enjoy creating. Please wear appropriate attire\, we haven&#39\;t had any paint spilled\, but just in case.&nbsp\;
LOCATION:7750 Highway 101\, Paso Robles\, CA 93446
UID:e.2488.5229
SEQUENCE:3
DTSTAMP:20260424T074627Z
URL:https://business.pasorobleschamber.com/events/details/love-bird-painting-5229
END:VEVENT

END:VCALENDAR
