BEGIN:VCALENDAR
VERSION:2.0
PRODID:-//ChamberMaster//Event Calendar 2.0//EN
METHOD:PUBLISH
X-PUBLISHED-TTL:P3D
REFRESH-INTERVAL:P3D
CALSCALE:GREGORIAN
BEGIN:VEVENT
DTSTART:20180214T200000Z
DTEND:20180215T050000Z
X-MICROSOFT-CDO-ALLDAYEVENT:FALSE
SUMMARY:Love to Indulge at Cello | Valentine's Day Special
DESCRIPTION:This Valentine's Day\, toast your love with an intimate evening for two at Cello Ristorante & Bar. Executive Chef Justin Picard masterfully prepared a decadent 4-course prix fixe dinner that will give you and your special someone even more to love! \nDiscover the Menu
X-ALT-DESC;FMTTYPE=text/html:This Valentine&#39\;s Day\, toast your love with an intimate evening for two at Cello Ristorante &amp\; Bar. Executive Chef Justin Picard masterfully prepared a decadent 4-course prix&nbsp\;fixe dinner that will give you and your special someone even more to love!&nbsp\;\n<div style="text-align:center"><a href="https://www.allegrettovineyardresort.com/resourcefiles/pdf/cello-valentine-s-day-menu.pdf">Discover the Menu</a></div>\n
LOCATION:Cello Ristorante & Bar 2700 Buena Vista Drive Paso Robles\, CA 93446
UID:e.2488.7946
SEQUENCE:3
DTSTAMP:20260422T050920Z
URL:https://business.pasorobleschamber.com/events/details/love-to-indulge-at-cello-valentine-s-day-special-7946
END:VEVENT

END:VCALENDAR
