BEGIN:VCALENDAR
VERSION:2.0
PRODID:-//ChamberMaster//Event Calendar 2.0//EN
METHOD:PUBLISH
X-PUBLISHED-TTL:P3D
REFRESH-INTERVAL:P3D
CALSCALE:GREGORIAN
BEGIN:VEVENT
DTSTART:20161028T170000Z
DTEND:20161029T000000Z
X-MICROSOFT-CDO-ALLDAYEVENT:FALSE
SUMMARY:Luxury Beer Tour
DESCRIPTION:Enjoy food\, tastings\, and tours at:\n\nThe Hatch\n\nRed Soles Stillhouse\n\nBarrelHouse Brewery\n\nFirestone Walker Brewery\n\nEarth and Fire Brewing Company
X-ALT-DESC;FMTTYPE=text/html:<span style="line-height: 20.8px\;">Enjoy food\, tastings\, and tours at:</span><br style="line-height: 20.8px\;" />\n<span style="line-height: 20.8px\;">The Hatch</span><br style="line-height: 20.8px\;" />\n<span style="line-height: 20.8px\;">Red&nbsp\;</span><span style="line-height: 20.8px\;">Soles&nbsp\;</span>Stillhouse<br style="line-height: 20.8px\;" />\nBarrelHouse<span style="line-height: 20.8px\;">&nbsp\;Brewery</span><br style="line-height: 20.8px\;" />\n<span style="line-height: 20.8px\;">Firestone Walker Brewery<br />\nEarth and Fire Brewing Company</span>
LOCATION:
UID:e.2488.4651
SEQUENCE:3
DTSTAMP:20260424T060735Z
URL:https://business.pasorobleschamber.com/events/details/luxury-beer-tour-10-28-2016-4651
END:VEVENT

END:VCALENDAR
