BEGIN:VCALENDAR
VERSION:2.0
PRODID:-//ChamberMaster//Event Calendar 2.0//EN
METHOD:PUBLISH
X-PUBLISHED-TTL:P3D
REFRESH-INTERVAL:P3D
CALSCALE:GREGORIAN
BEGIN:VEVENT
DTSTART:20171214T170000Z
DTEND:20171214T200000Z
X-MICROSOFT-CDO-ALLDAYEVENT:FALSE
SUMMARY:Marketing with Social Media
DESCRIPTION:SCORE's Marketing with Social Media workshop covers how to define and identify your target market and how to use Social Media platforms to communicate your message and how to measure your effectiveness in capturing your customers' attention and make more sales!
X-ALT-DESC;FMTTYPE=text/html:SCORE&#39\;s Marketing with Social Media workshop covers how to define and identify your target market and how to use Social Media platforms to communicate your message and how to measure your effectiveness in capturing your customers&#39\; attention and make more sales!
LOCATION:America's Job Center of California - 880 Industrial Way\, San Luis Obispo
UID:e.2488.6886
SEQUENCE:3
DTSTAMP:20260422T083918Z
URL:https://business.pasorobleschamber.com/events/details/marketing-with-social-media-12-14-2017-6886
END:VEVENT

END:VCALENDAR
