BEGIN:VCALENDAR
VERSION:2.0
PRODID:-//ChamberMaster//Event Calendar 2.0//EN
METHOD:PUBLISH
X-PUBLISHED-TTL:P3D
REFRESH-INTERVAL:P3D
CALSCALE:GREGORIAN
BEGIN:VEVENT
DTSTART:20160430T170000Z
DTEND:20160430T210000Z
X-MICROSOFT-CDO-ALLDAYEVENT:FALSE
SUMMARY:Meet the Experts Open House
DESCRIPTION:Knight's Carpets & Interiors 25th Year Anniversary\n\nAnnual Meet the Experts Open House\n\n\n\nJoin Knight's 25-year anniversary celebration.\n\nSee the latest in flooring and window coverings.\n\nTalk to factory reps\, installers\, and industry pros.\n\n\n\nRaffle prizes\, refreshments available.\n\nGoody bags provided for all attendees.
X-ALT-DESC;FMTTYPE=text/html:<span style="color:black\;"><span style="font-family:helvetica\,sans-serif\;"><span style="font-size:12.0pt\;">Knight&#39\;s Carpets &amp\; Interiors 25th Year Anniversary<br />\nAnnual Meet the Experts Open House<br />\n<br />\nJoin Knight&#39\;s 25-year anniversary celebration.<br />\nSee the latest in flooring and window coverings.<br />\nTalk to factory reps\, installers\, and industry pros.<br />\n<br />\nRaffle prizes\, refreshments available.<br />\nGoody bags provided for all attendees.</span></span></span>
LOCATION:3320 Ramada Drive Paso Robles\, CA 80-237-1400
UID:e.2488.4683
SEQUENCE:3
DTSTAMP:20260424T171423Z
URL:https://business.pasorobleschamber.com/events/details/meet-the-experts-open-house-04-30-2016-4683
END:VEVENT

END:VCALENDAR
