BEGIN:VCALENDAR
VERSION:2.0
PRODID:-//ChamberMaster//Event Calendar 2.0//EN
METHOD:PUBLISH
X-PUBLISHED-TTL:P3D
REFRESH-INTERVAL:P3D
CALSCALE:GREGORIAN
BEGIN:VEVENT
DTSTART:20160512T003000Z
DTEND:20160512T023000Z
X-MICROSOFT-CDO-ALLDAYEVENT:FALSE
SUMMARY:Member Mixer
DESCRIPTION:Join us for a Membership Mixer at Mullahey Chrysler Dodge Jeep Ram on Wednesday\, May 11th at 5:30pm.\n\n\n\nEnjoy wines by the Community Oriented Business of the Month\, Cass Vineyard & Winery.\n\n\n\nHelp us honor May's Roblan of the Month\, Sarah Tomasetti!
X-ALT-DESC;FMTTYPE=text/html:<span style="color: rgb(78\, 86\, 101)\; font-family: helvetica\, arial\, sans-serif\; font-size: 14px\; line-height: 18.76px\;">Join us for a Membership Mixer at Mullahey Chrysler Dodge Jeep Ram on Wednesday\, May 11th at 5:30pm.</span><br style="color: rgb(78\, 86\, 101)\; font-family: helvetica\, arial\, sans-serif\; font-size: 14px\; line-height: 18.76px\;" />\n<br style="color: rgb(78\, 86\, 101)\; font-family: helvetica\, arial\, sans-serif\; font-size: 14px\; line-height: 18.76px\;" />\n<span style="color: rgb(78\, 86\, 101)\; font-family: helvetica\, arial\, sans-serif\; font-size: 14px\; line-height: 18.76px\;">Enjoy wines by the Community Oriented Business of the Month\, Cass Vineyard &amp\; Winery.</span><br style="color: rgb(78\, 86\, 101)\; font-family: helvetica\, arial\, sans-serif\; font-size: 14px\; line-height: 18.76px\;" />\n<br style="color: rgb(78\, 86\, 101)\; font-family: helvetica\, arial\, sans-serif\; font-size: 14px\; line-height: 18.76px\;" />\n<span style="color: rgb(78\, 86\, 101)\; font-family: helvetica\, arial\, sans-serif\; font-size: 14px\; line-height: 18.76px\;">Help us honor May&#39\;s Roblan of the Month\, Sarah Tomasetti!</span>
LOCATION:Mullahey Chrysler Dodge Jeep Ram 2520 Golden Hill Road Paso Robles\, CA
UID:e.2488.4629
SEQUENCE:3
DTSTAMP:20260423T234437Z
URL:https://business.pasorobleschamber.com/events/details/member-mixer-05-11-2016-4629
END:VEVENT

END:VCALENDAR
